BEGIN:VCALENDAR
VERSION:2.0
PRODID:-//P-O Life - ECPv4.6.25//NONSGML v1.0//EN
CALSCALE:GREGORIAN
METHOD:PUBLISH
X-WR-CALNAME:P-O Life
X-ORIGINAL-URL:https://anglophone-direct.com
X-WR-CALDESC:Events for P-O Life
BEGIN:VEVENT
DTSTART;VALUE=DATE:20171109
DTEND;VALUE=DATE:20171110
DTSTAMP:20260422T232448
CREATED:20171107T142409Z
LAST-MODIFIED:20171108T073922Z
UID:31080-1510185600-1510271999@anglophone-direct.com
SUMMARY:Song and Dance in Saint Estève
DESCRIPTION:SPOT : L’Art Scèn’\nThursday\, November 9\, 2017 at 8:30 pm  \n5 euros\nArt Scén  is a spicy vocal group of twenty or so singers\, with surprising musical choices and great choreographed performances! An uninhibited musical show! \nOn the programme: Bruno Mars\, L.E.J.\, Faada Freddy\, Michel Jonasz\, Stromae and Benjamin Biolay\, as well as traditional Macedonian and Mexican pieces\,\nAnd also … Mozart. \nMixing poetry\, humour\, dance\, music and fun\, this band will make you want to dance! \nTicket Office open from Monday to Friday from 14h to 18h and on the  day of the show. \n04 68 38 34 95 \n \nShare this:\n				Click to share on Facebook (Opens in new window)\n				Facebook\n			\n				Click to share on X (Opens in new window)\n				X\n			\n				Click to share on LinkedIn (Opens in new window)\n				LinkedIn\n			\n				Click to share on Pinterest (Opens in new window)\n				Pinterest\n			\n\n	Related\n
URL:https://anglophone-direct.com/event/31080/
LOCATION:Théatre de l’Etang\,\, Saint Estève
CATEGORIES:Cinema & Theatre,Family Fun,Music and Dance
ATTACH;FMTTYPE=image/jpeg:https://anglophone-direct.com/ap_img/CTS_0673_DxO.jpg
END:VEVENT
END:VCALENDAR