BEGIN:VCALENDAR
VERSION:2.0
PRODID:-//P-O Life - ECPv4.6.25//NONSGML v1.0//EN
CALSCALE:GREGORIAN
METHOD:PUBLISH
X-WR-CALNAME:P-O Life
X-ORIGINAL-URL:https://anglophone-direct.com
X-WR-CALDESC:Events for P-O Life
BEGIN:VEVENT
DTSTART;TZID=UTC+1:20160728T080000
DTEND;TZID=UTC+1:20160728T170000
DTSTAMP:20260422T091130
CREATED:20160730T161127Z
LAST-MODIFIED:20160803T111347Z
UID:19401-1469692800-1469725200@anglophone-direct.com
SUMMARY:Art: Ari Hantke at the Galerie Marianne\, Argelès
DESCRIPTION:Paintings & Photos by Ari Hantke\nGalerie Marianne\, espace Liberté ; rue du 14-Juillet (village centre\, Argelès)\nFREE ADMISSION \nUntil Saturday 6th August 2016\n \n\nWhilst looking for a film location\, German producer Ari Hantke came to Port-Vendres. It was love at first sight… \nA couple of years later\, he decided to leave the film business behind and settle in France. It is therefore small wonder that Ari Hantke’s second exhibition at the Dome in Port Vendres  focuses once again on adopted home\, with acrylic paintings\, water colours\, drawings and photographs offering unusual views on the sights and everyday life around Port-Vendres harbour. \n \nBefore Ari Hantke settled in Port-Vendes\, he studied Architecture and Fine Arts in Munich. On leaving university he was snapped up by Von Branca\, a top German architect and put to work on a major project that lasted six years… \nHe switched to movie making\, working for Constantin Costa-Gavras\, Claude Zidi\, Edouard Molinaro and Jean-Jacques Beineix. For his 2004 film The Ninth Day by internationally renowned director Volker Schloendorff (The Tin Drum)\, he was awarded the German Film Award 2005 for Best Production Design. \n \nWhen Ari isn’t painting\, he is busy in his Port-Vendres architect’s office\, realising building projects\, alterations and renovations. And sometimes\, he can also  be found playing guitar and singing with  Pierre Leberger at the Bistrot du France\, 21 Quai Forgas\, in Port-Vendres. Go  along to listen\, sing along\, or take  your guitar or other instruments and have a jam! \nFIND OUT MORE \nShare this:\n				Click to share on Facebook (Opens in new window)\n				Facebook\n			\n				Click to share on X (Opens in new window)\n				X\n			\n				Click to share on LinkedIn (Opens in new window)\n				LinkedIn\n			\n				Click to share on Pinterest (Opens in new window)\n				Pinterest\n			\n\n	Related\n
URL:https://anglophone-direct.com/event/art-ari-hantke-galerie-marianne-argeles/
LOCATION:Galerie Marianne\, espace Liberté ; rue du 14-Juillet Argelès
CATEGORIES:Art & Lit
ATTACH;FMTTYPE=image/jpeg:https://anglophone-direct.com/ap_img/bea-2-scaled.jpg
END:VEVENT
END:VCALENDAR