BEGIN:VCALENDAR
VERSION:2.0
PRODID:-//P-O Life - ECPv4.6.25//NONSGML v1.0//EN
CALSCALE:GREGORIAN
METHOD:PUBLISH
X-WR-CALNAME:P-O Life
X-ORIGINAL-URL:https://anglophone-direct.com
X-WR-CALDESC:Events for P-O Life
BEGIN:VEVENT
DTSTART;VALUE=DATE:20160605
DTEND;VALUE=DATE:20160606
DTSTAMP:20260422T102012
CREATED:20160530T074514Z
LAST-MODIFIED:20160601T065053Z
UID:16888-1465084800-1465171199@anglophone-direct.com
SUMMARY:Art in Villelongue: Journée Arts et Lettres
DESCRIPTION: Art and Artists in Villelongue Dels Monts\nOn Sunday 5th June the Villelongue dels Monts association\, Vilallonga Fa temps I Ara (  time gone by and today) will be holding their annual open day for local artists. \nA variety of art forms have been represented over the years. This year the exhibition will include photography\, watercolours\, patchwork\, and decoupage amongst others. It is held in the Salle des Fêtes and will be open from 9 till 6.30. \nThe ‘Assocation’ was started in 1992 by a group of local history enthusiasts who also gradually put together a collection of local artifacts which became ‘le Musée’ housed in a garage near the church. In 2001 a retired seamstress donated her house to the Mairie  to be used as the museum. This typical catalan village house was then renovated by members of the association with the help of the Mairie and has since housed the museum’s collection of agricultural tools  together with photos of days past donated by the villagers.  \nOn the first floor you get an insight into a typical catalan home in the last century. It is open\, free of charge\, Saturday and Sunday afternoons in July and August\, or on demand. \nThe association continues to maintain local traditions with trips to places of cultural interests in the region and Catalunya .Every year some members get together to make the traditional bougnettes\, enjoy the new wine with roasted chestnuts and welcome the flame from the Canigou for the feast of St. Jean. \nCome along on the 5th. June to see what Villelongue dels Monts has to offer. \nFor more information 04.68.95.02.04. / 04.68.89.66.20. \nLocal photographer Sue Holmes has lived over here with her husband since January 2002. They bought their first house in Villelongue Dels Monts in February the same year\, and later moved to St André \n \n“I love nature and quickly got involved with walking groups\, and gym\, making my own cards\,calendars etc using my photography\, I have exhibited regularly at Marchés De Noels in the area\, at Estagel\, Argeles\, Laroque Office of Tourisme\, with  St André in the pipeline. I am very much a self taught photographer\,  not that experienced. I am a member of the Languedoc and Occitanie Photography Groups on line. \n \nWith the sun\, sea and wonderful light and azure blue skies\, it is easy to see why so many artists and people are attracted to this region and why it makes for great subject matter for painting and  photos. \nMy passion is the lumière\, sunrises sunsets and landscapes. I don’t know all the intricacies but I know I like what I see and try to capture\, and hopefully it will give others pleasure. I give donations from my work to Red Cross\, a Stroke Club\,  and the St André Cat control and Protection Association.” \n \nSee Sue’s work and much more art and artists at the salle des fêtes in Villelongueson \nShare this:\n				Click to share on Facebook (Opens in new window)\n				Facebook\n			\n				Click to share on X (Opens in new window)\n				X\n			\n				Click to share on LinkedIn (Opens in new window)\n				LinkedIn\n			\n				Click to share on Pinterest (Opens in new window)\n				Pinterest\n			\n\n	Related\n
URL:https://anglophone-direct.com/event/art-in-villelongue/
CATEGORIES:Art & Lit
ATTACH;FMTTYPE=image/jpeg:https://anglophone-direct.com/ap_img/12513993_10153232769451780_6368118394368958637_o.jpg
END:VEVENT
END:VCALENDAR