BEGIN:VCALENDAR
VERSION:2.0
PRODID:-//P-O Life - ECPv4.6.25//NONSGML v1.0//EN
CALSCALE:GREGORIAN
METHOD:PUBLISH
X-WR-CALNAME:P-O Life
X-ORIGINAL-URL:https://anglophone-direct.com
X-WR-CALDESC:Events for P-O Life
BEGIN:VEVENT
DTSTART;VALUE=DATE:20220401
DTEND;VALUE=DATE:20220501
DTSTAMP:20260421T163200
CREATED:20220328T052635Z
LAST-MODIFIED:20220413T092402Z
UID:61113-1648771200-1651363199@anglophone-direct.com
SUMMARY:AT A GLANCE April 2022
DESCRIPTION:[vc_row][vc_column][vc_column_text] \nAround the region April 2022\n\n\n\nWHEN & WHERE?\nWHAT?\n\n\n\n\nThroughout the year\nFairs and festivals around the region\, little and large\, celebrating every imaginable ‘produit de terroir’.\n\n\nFriday 1st\nAcross the region\nPoisson d’avril.\n\n\nFriday 1st\, 8.30pm\nSalle de l’Union\, Céret\nConcert SMAC – soirée punk rock. Get down and dirty with an evening of authentic punk rock. 10€. Contact the Office de Tourisme for more info.\n\n\nFriday 1st – Saturday 2nd\nSaint Cyprien\nBraderie de la Croix Rouge. Charity vide-grenier. Contact the Office de Tourisme for more info.\n\n\nFriday 1st – Sunday 3rd\n\nOSAR performs Mozart’s Requiem.\n\n\nFriday 1st – Saturday 16th\nPerpignan\nFestival de musique sacrée.\n\n\nSaturday 2nd\, 10.30am\nPlace de la Loge\, Perpignan\nVisite guidée. Test your French and discover the many incredible street art pieces around Perpignan. 7€. Contact the Office de Tourisme for more info.\n\n\nSaturday 2nd\, 7pm\nThéâtre de l’Etang\, Saint Estève\nApéro concert. An musical evening in hommage to Charles Trenet. Find out more here.\n\n\nSaturday 2nd 7.30pm\nBanyuls sur Mer\nCarnaval de nuit. Nightime carnaval. Contact the Office de Tourisme for more info.\n\n\nSaturday 2nd – Sunday 3rd\nCanet en Roussillon\nCanet fait le printemps. Celebrate spring with a weekend of local produce markets\, flowers and gardening materials\, music and entertainement. Contact the Office de Tourisme for more info.\n\n\nSunday 3rd\nArles sur Tech\nFoire aux chevreaux. Deer festival. Contact the Office de Tourisme for more info.\n\n\nSunday 3rd\nBanyuls sur Mer\nVide grenier. Contact the Office de Tourisme for more info.\n\n\nSunday 3rd\nLe Racou\, Argelès sur Mer\nFoire aux éleveurs.\n\n\nSunday 3rd\nEspace Saint Mamet\, Saint Estève\nBraderie de printemps. Springtime vide-grenier. Contact the Office de Tourisme for more info.\n\n\nSunday 3rd\nTorreilles\nCarnaval. \n\n\nTuesday 5th\, 3pm\nEglise\, Amélie les Bains\nFund-raising concert for Ukraine. Contact the Office de Tourisme for more info.\n\n\nWednesday 6th\, 9am – 1pm\nLes Voiles Rouges\, Canet en Roussillon\nForum de l’emploi saisonnier. Looking for a summer job? Or maybe summer staff? Head to the annual seasonal workers forum to find your bonheur. Contact the Office de Tourisme for more info.\n\n\nFriday 8th\, 7.30pm\nSalle de l’Union\, Céret\nJazzèbre: Ti’Kaniki & DJ set.\n\n\nSaturday 9th\nLes Angles\nSnow Rugby Pyrénées. Rugby on ice\, well snow\, but full of fun and surprises none the less. (Re)discover international greats from Argentina\, Uruguay and France. Contact the Office de Tourisme for more info.\n\n\nSaturday 9th\, 2pm\nPlace de la République\, Perpignan\nMarché pour le climat. Environmental protest march. Contact the Office de Tourisme for more info.\n\n\nSaturday 9th\, 8.30pm\nPalais des Congrès\, Perpignan\nThe world of Queen. Tribute concert to the iconic band and legendary front man. Contact the Office de Tourisme for more info.\n\n\nSunday 10th\, 5pm\nEglise\, Banyuls sur Mer\nL’heure musicale des amis d’Alain Marinaro.\n\n\nThursday 14th\, 7pm\nThéâtre de l’Etang\, Saint Estève\nApéro-concert. Local celebrities\, Etat Soeur\, perform all your pop rock favourites. Find out more here.\n\n\nFriday 15th\nPerpignan\nProcession de la Sanch.\n\n\nFriday 15th\, 8.30pm\nThéâtre de l’Etang\, Saint Estève\nTony Carreira. Concert by Portuguese superstar. Find out more here.\n\n\nSaturday 16th\nThuir\nVide grenier. Contact the Office de Tourisme for more info.\n\n\nSaturday 16th – Monday 18th\nAcross the region\nEaster.\n\n\nSaturday 16th – Monday 18th\nArgelès sur Mer\nFête américaine.\n\n\nSunday 17th\nIlle sur Têt\nRegina Coll et Colomer.\n\n\nSunday 17th\nParking Foirail\, Prades\nFoire plantes et nature. Plant and nature festival. Contact the Office de Tourisme for more info.\n\n\nMonday 18th\nBanyuls sur Mer\nVide grenier. Contact the Office de Tourisme for more info.\n\n\nSaturday 23rd\nAcross the region\nSant Jordi.\n\n\nSaturday 23rd – Sunday 24th\nArgelès sur Mer\nArgelès Nature Trail.\n\n\nSaturday 23rd – Sunday 24th\nChapelle de Juhègues\, Torreilles\nFloralies de Juhègues. Flower and plant salon with displays from local growers\, producers and nurseries. Contact the Office de Tourisme for more info.\n\n\nTuesday 26th\, 3pm\nHalle des Sports\, Prades\nFund-raising concert for Ukraine. Contact the Office de Tourisme for more info.\n\n\nTuesday 26th – Sunday 1st May\nLeucate\nMondial du Vent.\n\n\nSaturday 30th\nElne\nVide grenier. Contact the Office de Tourisme for more info.\n\n\nSaturday 30th\nSorède salle de fête\nThéâtre…’Une Femme Seule’ FREE \n\n\n\n\nMORE…..\n\n\n\n\n*Photo credit: Tourisme Conflent Canigou \n \nANY EVENTS TO ADD? ADD YOUR OWN EVENTS BELOW\, OR SEND THEM TO US.[/vc_column_text][/vc_column][/vc_row] \nShare this:\n				Click to share on Facebook (Opens in new window)\n				Facebook\n			\n				Click to share on X (Opens in new window)\n				X\n			\n				Click to share on LinkedIn (Opens in new window)\n				LinkedIn\n			\n				Click to share on Pinterest (Opens in new window)\n				Pinterest\n			\n\n	Related\n
URL:https://anglophone-direct.com/event/at-a-glance-april-2022/
ATTACH;FMTTYPE=image/jpeg:https://anglophone-direct.com/ap_img/canigou-1-1.jpg
END:VEVENT
END:VCALENDAR