BEGIN:VCALENDAR
VERSION:2.0
PRODID:-//P-O Life - ECPv4.6.25//NONSGML v1.0//EN
CALSCALE:GREGORIAN
METHOD:PUBLISH
X-WR-CALNAME:P-O Life
X-ORIGINAL-URL:https://anglophone-direct.com
X-WR-CALDESC:Events for P-O Life
BEGIN:VEVENT
DTSTART;VALUE=DATE:20220201
DTEND;VALUE=DATE:20220301
DTSTAMP:20260421T113648
CREATED:20220210T071410Z
LAST-MODIFIED:20220210T135349Z
UID:60251-1643673600-1646092799@anglophone-direct.com
SUMMARY:AT A GLANCE February 2022
DESCRIPTION:[vc_row][vc_column][vc_column_text] \nAround the region February 2022\nLove is in the air.. and so are the crêpes! \n\n\n\nWHEN & WHERE?\nWHAT?\n\n\n\n\nThroughout the year\nFairs and festivals around the region\, little and large\, celebrating every imaginable ‘produit de terroir’.\n\n\nThroughout the month\nRetirada commemoration events. Check with local Offices de Tourisme for more info. Read about the Spanish civil war here.\n\n\nTuesday 1st\, 6.30pm\nConservatoire\, Perpignan\nSextuor de Poulenc. Concert from wind quintet\, Notus\, accompanied by Emilie Benterfa on piano. 5€.  Contact the Office de Tourisme for more info.\n\n\nWednesday 2nd\nAcross France\nFête de la Chandeleur.\n\n\nWednesday 2nd\nOnline\nL’art des crêpes. Celebrate pancake day by posting a photo of your crêpe on the Saint Cyp Facebook page (ages 6-12) and have a chance to win a tablet! Contact the Office de Tourisme for more info.\n\n\nThursday 3rd\nLibrarie Old and Co\, Font Romeu\nAtelier recettes printemps. Springtime recipe workshop. Contact the Office de Tourisme for more info.\n\n\nThursday 3rd at 19h\nInstitut Jean Vigo\, Perpignan\nTemps sans Pitié (1953)  Time Without Pity with Michael Redgrave\, Leo McKern. A father tries to save his son from execution for murder.\n\n\nThursday 3rd\, 8.30pm\nLe Chaudron\, Bages\nOpen mic night. Amateur musicians are invited to take to the stage. Facebook.\n\n\nThursday 3rd – Sunday 6th\nFont Romeu\nEuropean snowboarding cup. The best of the boarders battle it out on our local slopes. Contact the Office de Tourisme for more info.\n\n\nFriday 4th\, 8.30pm\nSalle de l’Union\, Céret\nRetour de chant. 4 singers\, 1 double bassist\, performing in French\, Catalan\, Spanish and English. 12€. Contact the Office de Tourisme for more info.\n\n\nFriday 4th – Friday 18th\nCollection Desnoyer\, Saint Cyprien\nCosmogonie. Erotic art exhibition at the François Desnoyer gallery\, over 18s only. Vernissage Friday 4th\, 6pm. Contact the Office de Tourisme for more info.\n\n\nSaturday 5th – Sunday 6th\nArles sur Tech\nFête de l’ours. CANCELLED\n\n\nSaturday 5th – Sunday 6th\nParc des Expos\, Perpignan\nSalon éco-maison. The annual eco-home exhibition will bring together exhibitors and experts in improving your home’s ecologial footprint. Contact the Office de Tourisme for more info.\n\n\nSunday 6th\nAmélie les Bains\nFête de la truffe noir. Black truffle market. Contact the Office de Tourisme for more info.\n\n\nThursday 10th – Wednesday 23rd\nGalerie Marianne\, Argelès sur Mer\nAbstrait Urban. Temporary art exhibition at the Argelès municipal gallery. Bursting with colour and spontaneity. On the theme of ‘liberty’\, artist PROOZ creates a link between contemporary and urban art. Free entry. Contact the Office de Tourisme for more info.\n\n\nFriday 11th\, 6pm\nFont Romeu\nSpectacle de feu. Pyrotechnics show in the beautiful snowy mountains. Contact the Office de Tourisme for more info.\n\n\nFriday 11th\, 8.30pm & Saturday 12th\, 7pm\nThéâtre de l’Archipel\nKamuyot. Dance performance. Find out more about the theatre here.\n\n\nSaturday 12th\, 9am – 4pm\nSalle Pons\, Saint Cyprien\nBraderie Croix Rouge. Charity jumble sale. Contact the Office de Tourisme for more info.\n\n\nSaturday 12th\, 3pm\nSaint Paul de Fenouillet\nKids carnaval. Children can welcome in springtime with this procession of colour and music. Contact the Office de Tourisme for more info.\n\n\nSaturday 12th\, 7pm\nThéâtre de l’Etang\, Saint Estève\nApéro-concert TAES. Live music around a glass of something local. Find out more about the theatre here.\n\n\nSaturday 12th\, 8.30pm\nCasa Musicale\, Perpignan\nJazzèbre concert.\n\n\nSaturday 12th – Sunday 13th\nBanyuls sur Mer\nFête de l’orange. Celebrate the citrus. Contact the Office de Tourisme for more info.\n\n\nSunday 13th\nCastelnou\nMarché aux truffes. Truffle market. Contact the Office de Tourisme for more info.\n\n\nSaturday 12th\, 8.30pm\nCasa Musical\, Perpignan\nLegraux Tobrogoï\, Jazzèbre. Find out more about the festival here.\n\n\nSunday 13th\, 2pm\nFont Romeu\nLadies & Gentlemen Night Tour. Night ski competition. Contact the Office de Tourisme for more info.\n\n\nSunday 13th\, 4pm\nEglise\, Toulouges\nCanticel Concert Saint Valentin.\n\n\nMonday 14th\nAcross France\nFête de la Saint Valentin.\n\n\nTuesday 15th\nMédiathèque\, Prades\nCafé tricoté. Enjoy a natter around your knitting. Contact the Office de Tourisme for more info.\n\n\nThursday 16th\, 3.30pm & 8.30pm\nPalais des Congrès\, Perpignan\nLac des cygnes. Swan Lake performed by the St-Petersbourg Festival Ballet & Festival Orchestra. 43€. Contact the Office de Tourisme for more info.\n\n\nFriday 17th – Monday 20th\nStart: espace Jean-Carrère\, avenue Molière\,  Argelès-sur-Mer\nMarche de la mémoire.  A walk\, exhibition\, concert and other activities based around the Retirada. Full programme HERE\n\n\nSaturday 19th – Sunday 6th March\nAcross the P-O\nSchool holidays. Check with your local Office de Tourisme for kids activities. Other regions of France will be on holiday from Saturday 5th Feb\, so there may well be a few more holiday makers around the region during this time.\n\n\nSunday 20th\nPrats de Mollo\nFête de l’Ours.\n\n\nThursday 24th – Wednesday 9th March\nGalerie Marianne\, Argelès sur Mer\nTrait très femme. Leading up to International Women’s Day\, the Argelès art gallery exhibits 4 talented female artists from a range of genres and styles. Free entry. Contact the Office de Tourisme for more info.\n\n\nFriday 25th\, 9pm\nCollection Desnoyer\, Saint Cyprien\nMusique du monde. Acoustic guitare and vocal performance. Free entry. Contact the Office de Tourisme for more info.\n\n\nSunday 27th\nSaint Laurent de Cerdans\nFête de l’Ours.\n\n\n\n\nMORE…..\n\n\n\n\n*Photo credit: Tourisme Conflent Canigou \n \nANY EVENTS TO ADD? ADD YOUR OWN EVENTS BELOW\, OR SEND THEM TO US.[/vc_column_text][/vc_column][/vc_row] \nShare this:\n				Click to share on Facebook (Opens in new window)\n				Facebook\n			\n				Click to share on X (Opens in new window)\n				X\n			\n				Click to share on LinkedIn (Opens in new window)\n				LinkedIn\n			\n				Click to share on Pinterest (Opens in new window)\n				Pinterest\n			\n\n	Related\n
URL:https://anglophone-direct.com/event/at-a-glance-february-2022/
CATEGORIES:A Bit of Everything,Art & Lit,Charity Events,Cinema & Theatre,Culture and Heritage,Education,Family Fun,February,Festivals & Traditions,Markets & Vide Greniers,Music and Dance,Other stuff!,Outdoor Activities,Over the border,Salons & Exhibitions
ATTACH;FMTTYPE=image/jpeg:https://anglophone-direct.com/ap_img/canigou-1-1.jpg
END:VEVENT
END:VCALENDAR