BEGIN:VCALENDAR
VERSION:2.0
PRODID:-//P-O Life - ECPv4.6.25//NONSGML v1.0//EN
CALSCALE:GREGORIAN
METHOD:PUBLISH
X-WR-CALNAME:P-O Life
X-ORIGINAL-URL:https://anglophone-direct.com
X-WR-CALDESC:Events for P-O Life
BEGIN:VEVENT
DTSTART;VALUE=DATE:20230701
DTEND;VALUE=DATE:20230801
DTSTAMP:20260421T083609
CREATED:20230717T063546Z
LAST-MODIFIED:20230717T070421Z
UID:66856-1688169600-1690847999@anglophone-direct.com
SUMMARY:AT A GLANCE July 2023
DESCRIPTION:[vc_row][vc_column][vc_column_text] \nAround the region July 2023\n\n\n\nWHEN & WHERE?\nWHAT?\n\n\n\n\nThroughout the year\nFairs and festivals around the region\, little and large\, celebrating every imaginable ‘produit de terroir’.\n\n\nThroughout the year\nCatch a bargain or get rid of your junk at one of the many vide-greniers across the region.\n\n\nThroughout the summer season\nNight markets to soak up those summer holiday vibes.\n\n\nThroughout the summer season\nFireworks light up the night sky to celebrate the summer season.\n\n\nThroughout the summer season\nLe Vallespir\nGuided visits of Céret\, Le Boulou\, Les Thermes\, Maureillas\, Le Perthus. Choose your language!  Contact for more info\n\n\nThroughout the summer season\nSaint Cyprien\nNuits d’été. Summer nights in Saint Cyp with Sardanes and other Catalan traditions. Contact the Office de Tourisme for full programme.\n\n\nEvery Monday\, 7pm\nPlace de la Martinique\, Le Barcarès\nLes lundis du jazz. Free outdoor jazz concerts. Contact the Office de Tourisme for more info.\n\n\nEvery Tuesday\, 9.30am\nCéret\nStreet Art Céretan. Street art festival with posters\, tags\, stickers\, frescoes and more\, by local and international artists. 6€. Contact the Office de Tourisme for more info.\n\n\nEvery Tuesday\, 9.30pm\nPlace Paul Reig\, Banyuls sur Mer\nLe Banyulenc. Live rock concert every week. Contact the Office de Tourisme for more info.\n\n\nEvery Tuesday & Thursday\, 8pm\nPerpignan\nLes soirées rayonnantes. Light and sound shows with concerts along the River Basse. Contact the Office de Tourisme for more info.\n\n\nEvery Friday\, 9pm\nCollioure\nLes vendredis du jazz. Free outdoor jazz concerts on the colline Pams. Contact the Office de Tourisme for more info.\n\n\nEvery Sunday\, 7pm\nEtang\, Saint Estève\nLes dimanches de l’étang. Free live performances (music\, dance etc.) on the banks of the lake. Contact the Office de Tourisme for more info.\n\n\nFriday 30th June – Saturday 1st\nPollestres\nFestival Coq n’Roll.\n\n\nFriday 30th June – Sunday 2nd\nSaint Cyprien\nFête de la Saint Pierre.\n\n\nSaturday 1st\, 8.30pm\nMas de Nogarède\, Céret\nConcert duo piano violon. Classical repertoire of Beethoven\, Saint Saëns\, Albéniz and more. Contact the Office de Tourisme for more info.\n\n\nSunday 2nd\, 8am-6pm\nStade Fontcalde\, Céret\nFête de la randonnée. Hiking festival with 3 different circuits. Contact the Office de Tourisme for more info.\n\n\nSunday 2nd\, 9.30pm\nPlace Paul Reig\, Banyuls sur Mer\nChispa Latina. Free gypsy Latino concert. Contact the Office de Tourisme for more info.\n\n\nTuesday 4th\nArgelès sur Mer\nBal folk. Traditional dance festival. Contact the Office de Tourisme for more info.\n\n\nThursday 6th – Sunday 9th\nPort Barcarès\nLes Déferlantes Sud de France.\n\n\nFriday 7th\, 8.30pm\nEglise\, Céret\nConcert d’orgue. Organ concert by Austrian and Swiss musicians. Contact the Office de Tourisme for more info.\n\n\nFriday 7th\, 9pm\nPlace Paul Reig\, Banyuls sur Mer\nBal Tango. Strut your stuff on the dancefloor at this free Tango ball. Contact the Office de Tourisme for more info.\n\n\nFriday 7th\, 9pm\nJardin de la Mairie\, Sorède\nTop of the Rock. Free rock concert from Zig Zag Road. Contact the Office de Tourisme for more info.\n\n\nFriday 7th\nFenouillèdes\nEstivales de Fenouillèdes.\n\n\nFriday 7th – Friday 21st\nVinça\nFestival musique et orgue de Vinça. Baroque repertoire featuring the organ and other instruments. Contact the Office de Tourisme for more info.\n\n\nSaturday 8th\nPerpignan\nTêt en Fête. The newly modernised banks of the River Têt once again host the summer long festival. Food\, drink\, music and entertainment… fun for the whole family. Contact the Office de Tourisme for more info.\n\n\nSaturday 8th\nRia-Sirach\nFête de l’été. Summer festival with music\, entertainment and giant paëlla. Contact the Office de Tourisme for more info.\n\n\nSaturday 8th\, 8pm\nPlace Paul Reig\, Banyuls sur Mer\nBal Country. Grab your partner by the hand and do si do at this free country ball. Contact the Office de Tourisme for more info.\n\n\nSaturday 8th – Sunday 9th\nBanyuls sur Mer\nFesta Catalana. Traditional Catalan festival in the town centre with Sardanes\, balladas and pyrotechnic displays. Contact the Office de Tourisme for more info.\n\n\nSunday 9th\nRestaurant bar El Tap\, Maureillas\nChoir concert. The Chorale internationale d’Albera perform in a relaxed and friendly atmosphere. Contact the Office de Tourisme for more info.\n\n\nSunday 9th\nVillefranche de Conflent\nFête de la sorcière. Hubble\, bubble\, toil and trouble\, it’s witches galore in Villefranche! Contact the Office de Tourisme for more info.\n\n\nMonday 10th\, 7pm\nArgelès sur Mer\nElectro sur Mer. Free\, live\, electro music concert. Contact the Office de Tourisme for more info.\n\n\nTuesday 11th\nGalerie Saint Roch\, Céret\nChoir concert. The Chorale internationale d’Albera perform in a relaxed and friendly atmosphere. Contact the Office de Tourisme for more info.\n\n\nWednesday 12th – Sunday 16th\nCéret\nFéria.\n\n\nThursday 13th\nArgelès sur Mer\nDiad de juillet. Traditional Catalan summer festival. Contact the Office de Tourisme for more info.\n\n\nFriday 14th\nAcross France\nFête nationale.\n\n\nFriday 14th – Saturday 15th\nPerpignan\nTêt en Fête. The newly modernised banks of the River Têt once again host the summer long festival. Food\, drink\, music and entertainment… fun for the whole family. Contact the Office de Tourisme for more info.\n\n\nFriday 14th – Saturday 15th\nPort Barcarès\nPatrouille de France.\n\n\nFriday 14th – Sunday 16th\nCéret\nFeria.\n\n\nFriday 14th – Sunday 16th\nPort Barcarès\nElectrobeach.\n\n\nSaturday 15th\nFenouillèdes\nEstivales de Fenouillèdes.\n\n\nSunday 16th\, 6pm\nJardin des Plantes\, Saint Cyprien\nJardin en scène. Live\, acoustic concert in the shade of the botanical gardens. Free for St Cyp residents. 3€ for non-residents. Contact the Office de Tourisme for more info.\n\n\nMonday 17th\, 7pm\nArgelès sur Mer\nElectro sur Mer. Free\, live\, electro music concert. Contact the Office de Tourisme for more info.\n\n\nThursday 20th\, 5pm\nVillefranche de Conflent\nJa la Louze. Retro swing ball. Contact the Office de Tourisme for more info.\n\n\nThursday 20th – Sunday 23rd\nParc Ecoiffier\, Alénya\nFestival Latino Cubain Cienfuegos. South American festival with food\, music\, dance and more. All proceeds go to a charity that provides medical support and glasses to the town of Cienfuegos in Cuba. Contact: cubacoop66@orange.fr.\n\n\nFriday 21st\nFenouillèdes\nEstivales de Fenouillèdes.\n\n\nFriday 21st – Saturday 22nd\nPerpignan\nTêt en Fête. The newly modernised banks of the River Têt once again host the summer long festival. Food\, drink\, music and entertainment… fun for the whole family. Contact the Office de Tourisme for more info.\n\n\nFriday 21st – Sunday 23rd\nCéret\n65th Sardane Festival.\n\n\nFriday 21st – Sunday 6th August\nVarious venues\nJazz en Tech.\n\n\nSunday 23rd\, 6pm\nJardin des Plantes\, Saint Cyprien\nJardin en scène. Live\, acoustic concert in the shade of the botanical gardens. Free for St Cyp residents. 3€ for non-residents. Contact the Office de Tourisme for more info.\n\n\nSunday 23rd\, 9.30pm\nPlace Paul Reig\, Banyuls sur Mer\nWake Up 66. Free live concert of British & Celtic/Irish music. Contact the Office de Tourisme for more info.\n\n\nThursday 27th\nParc de la Prade\nPiano du lac. Free piano recital from a platform over the lake of the park. Contact the Office de Tourisme for more info.\n\n\nFriday 28th\, 7pm\nJardin de la Mairie\, Sorède\n\nFree Blues festival.\n\n\nFriday 28th\nFenouillèdes\nEstivales de Fenouillèdes.\n\n\nFriday 28th – Saturday 29th\nPerpignan\nTêt en Fête. The newly modernised banks of the River Têt once again host the summer long festival. Food\, drink\, music and entertainment… fun for the whole family. Contact the Office de Tourisme for more info.\n\n\nFriday 28th – Sunday 30th\nBanyuls sur Mer\nSous les galets le Jazz. Weekend jazz festival on the beach. Contact the Office de Tourisme for more info.\n\n\nSaturday 29th – Tuesday 8th August\nAcross the Conflent\nFestival Pablo Casals.\n\n\nSunday 30th\, 6pm\nJardin des Plantes\, Saint Cyprien\nJardin en scène. Live\, acoustic concert in the shade of the botanical gardens. Free for St Cyp residents. 3€ for non-residents. Contact the Office de Tourisme for more info.\n\n\n\n\nMORE…..\n\n\n\n\n*Photo credit: Tourisme Conflent Canigou \n \nANY EVENTS TO ADD? ADD YOUR OWN EVENTS BELOW\, OR SEND THEM TO US.[/vc_column_text][/vc_column][/vc_row] \nShare this:\n				Click to share on Facebook (Opens in new window)\n				Facebook\n			\n				Click to share on X (Opens in new window)\n				X\n			\n				Click to share on LinkedIn (Opens in new window)\n				LinkedIn\n			\n				Click to share on Pinterest (Opens in new window)\n				Pinterest\n			\n\n	Related\n
URL:https://anglophone-direct.com/event/at-a-glance-july-2023/
CATEGORIES:A Bit of Everything,Art & Lit,Charity Events,Culture and Heritage,Family Fun,Festivals & Traditions,Kids,Markets & Vide Greniers,Music and Dance,Outdoor Activities,Salons & Exhibitions
ATTACH;FMTTYPE=image/jpeg:https://anglophone-direct.com/ap_img/canigou-1-1.jpg
END:VEVENT
END:VCALENDAR