BEGIN:VCALENDAR
VERSION:2.0
PRODID:-//P-O Life - ECPv4.6.25//NONSGML v1.0//EN
CALSCALE:GREGORIAN
METHOD:PUBLISH
X-WR-CALNAME:P-O Life
X-ORIGINAL-URL:https://anglophone-direct.com
X-WR-CALDESC:Events for P-O Life
BEGIN:VEVENT
DTSTART;VALUE=DATE:20250601
DTEND;VALUE=DATE:20250701
DTSTAMP:20260425T191456
CREATED:20250604T191152Z
LAST-MODIFIED:20250613T094644Z
UID:73219-1748736000-1751327999@anglophone-direct.com
SUMMARY:AT A GLANCE June 2025
DESCRIPTION:Around the region June 2025\n\n\n\nWHEN & WHERE?\nWHAT?\n\n\n\n\nThroughout the year\nFairs and festivals around the region\, little and large\, celebrating every imaginable ‘produit de terroir’.\n\n\nThroughout the year\nCatch a bargain or get rid of your junk at one of the many vide-greniers across the region.\n\n\nSunday 1st\nArgelès sur Mer\n\nUrb’Art.\n\n\n\nSunday 1st\, 4pm\nEglise\, Mosset\n\nCie Magali Bourgarel / Angeline Pondepeyre. Sacred music concert in the church. Contact the Office de Toursime for more details.\n\n\n\nSunday 1st\nSaint Cyprien\n\nFoulées de Sud Roussillon. Fun runs (or competitive runs\, if you prefer) from 5km up to a half marathon. Contact the Office de Toursime for more details.\n\n\n\nWednesday 4th\, 8.30pm\nEglise\, Saint Estève\n\nConcerti & suites: Cenacle Festival. Contact the Office de Toursime for more details.\n\n\n\nWednesday 4th – Friday 27th\nMémorial du Camp de Rivesaltes\nNostre Mar Festival. Cultural festival organised by SOS Racisme\, focuses on Mediterranean cultures\, histories\, and contemporary issues or racism\, migration and more. Website.\n\n\nThursday 5th – Saturday 7th\nParc de Valmy\, Argelès sur Mer\nBacchus Festival. A festival celebrating the wines of Roussillon\, local gastronomy\, and live music. Website.\n\n\nFriday 6th\, 10am – 6pm\nPlage Sud\, Canet en Roussillon\nWheelz Kids. 6 different initiations to try\, including skateboarding\, BMXing\, breakdancing and more! Contact the Office de Toursime for more details.\n\n\nFriday 6th\, 7pm\nPlace Louis Blasi\, Torreilles\nApéro jazz. Enjoy a drink and a niblle with live jazz from the Accordés Swing. Contact the Office de Toursime for more details.\n\n\nFriday 6th\, 8pm\nFoyer rural\, Saint Paul de Fenouillet\nSymphonie du Nouveau Monde. The Orchestre Symphonique Alénya Roussillon performs a repertoire from the New World. Money raised will go to the local music school. Contact the Office de Toursime for more details.\n\n\nFriday 6th – Sunday 8th\nCasa musicale\, Perpignan\n\nIda y Vuelta.\n\n\n\nFriday 6th – Friday 27th\nMédiathèque\, Saint Nazaire\n\nExhibition from British artist\, Hannah Jones. P-O Life reader and professional artist behind the P-O Colouring Book hosts her latest exhibition of lithograph paintings in Saint Nazaire.\n\n\n\nMonday 9th at 17h\,\nElne Cathedral\n\nVivaldi aux Spirituals including L’Ave Maria de Gounod with Duo Cantical. FREE ENTRY. More info here.\n\n\n\nThursday 12th\, 6.30pm\nThéâtre de l’Archipel\, Perpignan\n\nJours de fête. Discover the coming year’s programme and enjoy live music\, entertainment and more. Contact the Office de Toursime for more details.\n\n\n\nFriday 13th\, 7pm\nBrasserie Cap d’Ona\, Céret\n\nOpening Cap d’Ona Summer. Celebrate the summer season opening at local brewery\, Cap d’Ona. Contact the Office de Toursime for more details.\n\n\n\nFriday 13th – Saturday 14th\nCôte Vermeille\n\nSwimRun.\n\n\n\nFriday 13th – Sunday 15th\nLe Lydia\, Le Barcarès\n\nFestival Polar & Imaginaire. Crime ficiton festival. Contact the Office de Toursime for more details.\n\n\n\nFriday 13th – Sunday 15th\nSite Ruscino\, Perpignan\n\nJournées Européennes de l’Archéologie. Discover the archeological heritage of the Ruscino site as part of the Europe-wide archeology days. Contact the Office de Toursime for more details.\n\n\n\nFriday 13th – Sunday 15th\nReynès\n\nFête des paniers et des banastes.\n\n\n\nFriday 13th – 19h & 20h20\nEglise des Dominicains\, Perpignan\n\nLUMINISCENCE. An immersive 360° show to rediscover the history of Perpignan. A series of exceptional performances of sound and light  in the emblematic Dominican church. A unique sensory experience.\nFind out more here.\n\n\nFriday 13th – Saturday 14th\nMaury\nVoix des Femmes. Annual music festival celebrating the best in female musicians and performers. Website.\n\n\nSaturday 14th\nPlace de la République\, Perpignan\n\nJours de fête. The theatre hits the streets with parades and entertainment along the Allées Maillol and into Place Rép. Contact the Office de Toursime for more details.\n\n\n\nSaturday 14th\, 3.30pm\nOffice de Tourisme\, Perpignan\n\nGuided historical walking tour. Discover the history and legends of the historic city centre. Contact the Office de Toursime for more details.\n\n\n\nSaturday 14th\, 6pm\nPlage Nord\, Saint Cyprien\nBeach night. Communal apéro and BBQ. Find out more here.\n\n\nSaturday 14th\, 7.30pm\nSalle Jean Thubert\, Montesquieu des Albères\nChorale Internationale d’Albera Summer Concert: On Danse! Find out more here.\n\n\nSaturday 14th\, 8pm\nThéâtre El Mil.lenari\, Toulouges\nSpactacle Patio de Lunares – Peña Pellizco. Flamenco spectacle. Contact the Office de Toursime for more details.\n\n\nSaturday 14th – Sunday 15th\nAcross the region\nTrobada de la Saint Jean.\n\n\nSaturday 14th\nAmélie town centre\n\nLes Correfocs (“running with fire”)   fire\, sparks\, fireworks\, drums\, masks…a great Catalan tradition! Vallespir Canigó Tourisme\n\n\nSunday 15th\nVernet les Bains\nFesti’Conflent. Local festival bursting with Catalan traditions. Contact the Office de Toursime for more details.\n\n\nSunday 15th\, 6pm\nSalle Bartissol\, Banyuls sur Mer\nGrand concert romantique. The Orchestre Symphonique Canet Roussillon Méditérranée performs a romantic repertoire. Contact the Office de Toursime for more detail.\n\n\nWednesday 18th – Saturday 21st\nCarré d’Or\, Perpignan\nFestival d’art urbain. Street art festival in the Carré d’Or shopping centre\, with live painting\, exhibitions and entertainment. Contact the Office de Toursime for more detail.\n\n\nFriday 20th\, 9pm\nPlage\, Banyuls sur Mer\nDéfil’Eté. Summer fashion show on the beach front. Contact the Office de Toursime for more detail.\n\n\nSaturday 21st\nAcross the region\n\nFête de la musique.\n\n\n\nSaturday 21st\, from 10am\nPrats de Sournia\n\nFestival Vib’Soft. Alcohol-free festival with concerts\, DJ sets\, shows\, workshops and more. Contact the Office de Toursime for more detail.\n\n\n\nSaturday 21st\, 8.30pm\nPlace de la République\, Argelès sur Mer\nChorale Internationale d’Albera Summer Concert: On Danse! Find out more here.\n\n\nSunday 22nd\nSahorre (and the Conflent valley)\nSpectacle Torrefocs. The towers along the crests of the Conflent foothills will light up ahead of the Feux de Saint Jean (see below). Contact the Office de Toursime for more detail.\n\n\nSunday 22nd – Thursday 10th July\nPalau del Vidre\nFestival de musique et de poésie. The 26th annual music and poetry festival in the creative heart of Palau del Vidre\, known for its glass blowing. Contact the Offices de Toursime for more detail.\n\n\nSunday 22nd from 10h\nStreets of Céret\nFun\, fun\, fun with a charity soapox race through the streets\nMORE\n\n\nMonday 23rd\nAcross the region\nFeux de la Saint Jean.\n\n\nMonday 23rd – Sunday 29th\nBanyuls sur Mer\n\nRencontres photographiques. \n\n\n\nWednesday 25th\, from 10am\nCéret\n\nSalon international des aquarellistes. The first ever international watercolour salon hosted by Céret. Contact the Office de Toursime for more detail.\n\n\n\nThursday 26th – Sunday 29th\nLe Lydia\, Le Barcarès\n\nLes Déferlantes. Annual music festival featuring Will Smith\, Madness\, Cypress Hill and more. Website.\n\n\n\nFriday 27th\, 9pm\nThéatre de Verdure\, Céret\n\nOctuor de violoncelles. Led by François Ragot\, this cello octet performs in the outdoor venue in Céret. Contact the Office de Toursime for more detail.\n\n\n\nFriday 27th\, 9pm\nCollections François Desnoyer\, Saint Cyprien\n\n\nMusiques du monde. Jack & the Sparrow perform an evening of British accousitc pop. Contact the Office de Toursime for more detail.\n\n\n\nFriday 27th\, 9pm\nPlace du Foyer Rural\, Saint Paul de Fenouillet\n\nOrchestre sacrée soirée. All your favourite hits from the 80s performed by a live band. Contact the Office de Toursime for more detail.\n\n\n\nFriday 27th – Saturday 28th\nPollestres\n\nCoq N’Roll Festival.\n\n\n\nFriday 27th – Saturday 28th\nQuai Arthur Rimbaud\, Saint Cyprien\n\nFête de la Saint Pierre. Find out more here.\n\n\n\nFriday 27th – Sunday 29th\nSalle Marcel Oms\, Alénya\n\nSpectacle Flamenco. Enjoy the best of Spanish Flamenco with 3 different shows across the weekend. Contact the Office de Toursime for more detail.\n\n\n\nSaturday 28th\nBanyuls sur Mer\n\nBanyuls 1793\, la légende du col. Historical reenactment with traditional Catalan boats bringing smugglers to the shore to celebrate the end of the Battle of the Col. Contact the Office de Toursime for more detail.\n\n\n\nSaturday 28th\, 6pm\nMonastir del Camp\, Passa\n\nConcert d’été. The chamber choir\, Choeur de Chambre de Perpignan\, perform in the wonderful accoustics of the monastery. Contact the Office de Toursime for more detail.\n\n\n\n\n\nMORE…..\n\n\n\n\n*Photo credit: Tourisme Conflent Canigou \n \nANY EVENTS TO ADD? ADD YOUR OWN EVENTS BELOW\, OR SEND THEM TO US. \nShare this:\n				Click to share on Facebook (Opens in new window)\n				Facebook\n			\n				Click to share on X (Opens in new window)\n				X\n			\n				Click to share on LinkedIn (Opens in new window)\n				LinkedIn\n			\n				Click to share on Pinterest (Opens in new window)\n				Pinterest\n			\n\n	Related\n
URL:https://anglophone-direct.com/event/at-a-glance-june-2025/
LOCATION:Pyrenees Orientales
CATEGORIES:A Bit of Everything,Charity Events,Cinema & Theatre,Culture and Heritage,Festivals & Traditions,Food & Drink,Markets & Vide Greniers,Music and Dance,Outdoor Activities,Salons & Exhibitions
ATTACH;FMTTYPE=image/jpeg:https://anglophone-direct.com/ap_img/canigou-1-1-Cropped.jpg
END:VEVENT
END:VCALENDAR