BEGIN:VCALENDAR
VERSION:2.0
PRODID:-//P-O Life - ECPv4.6.25//NONSGML v1.0//EN
CALSCALE:GREGORIAN
METHOD:PUBLISH
X-WR-CALNAME:P-O Life
X-ORIGINAL-URL:https://anglophone-direct.com
X-WR-CALDESC:Events for P-O Life
BEGIN:VEVENT
DTSTART;VALUE=DATE:20161016
DTEND;VALUE=DATE:20161024
DTSTAMP:20260424T204039
CREATED:20161019T111404Z
LAST-MODIFIED:20161027T160743Z
UID:20049-1476576000-1477267199@anglophone-direct.com
SUMMARY:Automne Musical en Vallespir 2016
DESCRIPTION:Glorious concerts by professional musicians\, from September 24th to October 23rd in the 10 towns and villages that make up the Communauté de Commune du Vallespir.\n\n\n\n\n \n  \nSaturday 24th September\, 20h in the Chapelle St Paul REYNES\,\nAn evening of Baroque music by Vivaldi\, Handel and Bach\, together with the Stabat Mater by Pergolese.\nFeaturing the Quatuor Arkadas\, comprising Frédéric Descargues and Jaume Francesh\, violins\, Antoine Dautry\, viola\, Edgar Casellas\, cello\nand Elisabeth Picard harpsichord.\nSoloists: Soprano: Aurélie Loilier\, Mezzo soprano Caroline Champy-Tursun \n\n  \nSunday 25th September\, 17h30 in the Eglise St Louis Roi at LE PERTHUS\,\nEnsemble“Capcadira” – consisting of 5 women singers passionate about performing traditional Catalan songs in a concert polyphonique. \n\n  \nFriday 30th September\, 20h in the Salle Communale MAUREILLAS\n“Le Mystère d’un homme”. An evening dedicated to discovering more about the composer Georges Bizet\, best known for his opera ‘Carmen’. Featuring Aurélie Loilier soprano\, Caroline Champy-Tursun mezzo soprano\,\nZhi Wëi Shao tenor\, accompanied by Emilie Benterfa on piano and narrated by Christian Papis. \n\n  \nSunday 2nd October\, 17h30 in the Eglise St.Pierre CERET.\nA very special evening uniting the choir Accent Lyrique with the Brass Ensemble of Roussillon from the Conservatoire of Perpignan\, the ensemble Cat’Brass Quintet and Maï Saïto on organ\, under the direction of Christian Papis.\nThis promises to be a spectacular event never before experienced in the region. \n\n  \nSaturday 8th October 17h30 in the Eglise St. Valentin TAILLET\,\nEnsemble Marimba and Percussions \nCyril Baudet-Coizet and Jean-Baptiste Solano-Parerl\n2 musicians passionate about their instruments (marimba and vibraphone) playing both traditional and contemporary music. \n\n  \n\n\n\n\n\n\n\n\nSunday 9th October 17h30 in the Eglise St Jean L’ALBERE\nThe soprano Ariane Wohlhuter and guitarist Philippe Mouratoglou with a programme of music from England\, Germany and Spain \n\n  \nSunday 16th October 17h30 in the Salle Communale \nVIVES\nEnsemble Unitsax\nfeaturing soprano\, alto\, tenor and baritone saxophones\, keyboard\, drums and double bass.\nOnce again\, an evening of jazz sure to lift the spirits. \n\n  \nFriday 21st October\, 20h in the Eglise Ste Marie\nLE BOULOU\nConcert Stabat Mater by Rossini\nFeaturing the choir Accent Lyrique\, with soloists Aurélie Loilier soprano\, Helene Delalande or Caroline Champy-Tursun mezzo-soprano\, Zhi Wëi Shao tenor and Jiaming Zhang baratone\, accompanied by Emilie Benterfa\, under the direction of Christian Papis \n\n  \nSaturday 22nd October\, 17h30 in the Eglise St Nazaire\n LES CLUSES\nThe duo “Encuentro”\nMarielle Nordmann (harp) and Eduardo Garcia (Bandoneon)\nTwo instruments combine to bring us harmonies from Spain and South America \n\n  \nSunday 23rd October\, 17h30 in the Salle des Fetes\n ST JEAN PLA DE CORTS\nRomain LELEU\, trumpet\, winner at Victoires de la Musique Classique and his Ensemble Convergences.\nCécile Agator\, Cécile Petrol Leleu\, Sophie Grovel\, \nRenaud Guieu andYann Dubost\n6 Musicians famous throughout France bring to the Vallespir a superb programme from their repertoire to be heard this autumn also in Paris. \n\n  \n\n\n\n\n[vc_cta h2=”” shape=”round” css=”.vc_custom_1472130545287{background-color: #81e3ea !important;}”] \n\n\nPlaces: 15 Euros or 12 Euros for members\, and free for those under 15 Pay on the door or see www.amuvall.org \nOrganised by Musique et Voix en Pays Catalans.[/vc_cta] \n\n\n  \nShare this:\n				Click to share on Facebook (Opens in new window)\n				Facebook\n			\n				Click to share on X (Opens in new window)\n				X\n			\n				Click to share on LinkedIn (Opens in new window)\n				LinkedIn\n			\n				Click to share on Pinterest (Opens in new window)\n				Pinterest\n			\n\n	Related\n
URL:https://anglophone-direct.com/event/automne-musical-en-vallespir-2016/
LOCATION:Around the Region
CATEGORIES:Festivals & Traditions,Music and Dance
ATTACH;FMTTYPE=image/jpeg:https://anglophone-direct.com/ap_img/Sanstitre.jpg
END:VEVENT
END:VCALENDAR