BEGIN:VCALENDAR
VERSION:2.0
PRODID:-//P-O Life - ECPv4.6.25//NONSGML v1.0//EN
CALSCALE:GREGORIAN
METHOD:PUBLISH
X-WR-CALNAME:P-O Life
X-ORIGINAL-URL:https://anglophone-direct.com
X-WR-CALDESC:Events for P-O Life
BEGIN:VEVENT
DTSTART;VALUE=DATE:20260301
DTEND;VALUE=DATE:20260302
DTSTAMP:20260421T172937
CREATED:20260126T053053Z
LAST-MODIFIED:20260124T150240Z
UID:11818-1772323200-1772409599@anglophone-direct.com
SUMMARY:Fête de l'Ours - Bear Festival\, Saint-Laurent-de-Cerdans
DESCRIPTION:Bear Festival and Carnival\nWhere and when?\nBear Festivals take place each year in late winter (usually February) in several villages of the Vallespir\, notably Saint-Laurent-de-Cerdans\, Prats-de-Mollo-la-Preste and Arles-sur-Tech\, each with its own variations. The festivals  are officially recognised as part of France’s  cultural heritage\, underlining their cultural importance. \nBear Festival\, Saint-Laurent-de-Cerdans\nThe Saint Laurent bearfest is based around age-old traditions\, pre-Christian rituals\, linked to the cycle of nature\, fertility and the transition from winter to spring — the bear symbolising both danger and renewal. This is not a staged show but a living\, community-led tradition\, with entire villages involved and generations passing down the roles\, poems and costumes as villagers dress up as bears and the capture is purely symbolic. \nExpect noise\, smoke\, crowds and close contact. Old clothes are advised and expect a day that may be chaotic\, playful and intentionally unsettling — and all part of the fun \nThe story\nIn the past\, the young men of the mountain villages of the Pyrénées would attempt to capture a bear at this time of year\, in order to prove their bravery! The time of year was well chosen\, the bear being weakened by long months of hibernation. \nUntil 1992\, the costume was made out of goat skins sewn together\, but now a real bear skin is imported from Canada and the old goat skin bear outfit is on display at the Saint Laurent Museum. \nAn even earlier example of this type of costume can be seen at the Casa Pairal in Perpignan. \n\nOther strange things\nWatch out during the procession for the ‘monaca‘ a strange monster with two bodies\, two heads and four pairs of legs\, who represents the end of winter and the arrival of spring and terrorises young girls and children in the streets. \nKeep an eye out also for the ‘escalfador‘\, a copper bowl in which pig’s hair is burnt\, causing a very unpleasant smell. This is carried by two young people disguised as old people whose aim is to quietly slip the bowl under the skirts of the young girls and women! \nThe Hunt\nThe bear comes out of his cave\, abducts a young girl and carries her off to the forest. The whole village joins in the hunt to capture the bear. \nThe ‘meneur’ or leader drags the bear through the street on a chain reciting the Catalan poem ‘La Predica de l’Os’ which describes how bad the bear is\, and of course\, how brave the hunter is. \nThe bear dances to cobla music\, tries to escape – the macho meneur wins the struggle\, takes him to the town square and shaves him. \nThe bear ‘dies’\, lying on the ground for a short time\, before leaping up again\, this time with a human face. He is now allowed to choose a young lady from the crowd to finish off the event with the ritual dance. \nThe Bear Festival Today\nToday\, the Bear Festival remains one of the most powerful and authentic winter traditions in the Pyrénées-Orientales. Part carnival\, part ritual\, and part controlled chaos\, it marks the end of winter and the return of life\, reminding onlookers that some traditions are meant to be experienced rather than explained. \nShare this:\n				Click to share on Facebook (Opens in new window)\n				Facebook\n			\n				Click to share on X (Opens in new window)\n				X\n			\n				Click to share on LinkedIn (Opens in new window)\n				LinkedIn\n			\n				Click to share on Pinterest (Opens in new window)\n				Pinterest\n			\n\n	Related\n
URL:https://anglophone-direct.com/event/bear-festival-saint-laurent/
LOCATION:Saint-Laurent-de-Cerdans
CATEGORIES:Culture and Heritage,Festivals & Traditions
ATTACH;FMTTYPE=image/jpeg:https://anglophone-direct.com/ap_img/ours-1.jpg
END:VEVENT
END:VCALENDAR