BEGIN:VCALENDAR
VERSION:2.0
PRODID:-//P-O Life - ECPv4.6.25//NONSGML v1.0//EN
CALSCALE:GREGORIAN
METHOD:PUBLISH
X-WR-CALNAME:P-O Life
X-ORIGINAL-URL:https://anglophone-direct.com
X-WR-CALDESC:Events for P-O Life
BEGIN:VEVENT
DTSTART;VALUE=DATE:20180626
DTEND;VALUE=DATE:20180627
DTSTAMP:20260423T020911
CREATED:20180618T140332Z
LAST-MODIFIED:20180620T154623Z
UID:34921-1529971200-1530057599@anglophone-direct.com
SUMMARY:Choir in Concert\, Montesquieu
DESCRIPTION:Please come and enjoy an summer evening of popular songs in English and French with audience participation. We hope to see you there.\nWe are a choir of multi aged range people who enjoy singing well known popular music\, ranging from the Beatles and Abba to the classics of the French repertoire. Our musical director Bjorn Hedstrom has brought the choir to a high level without our losing our sense of fun and enjoyment. Join in the summer fun at our concert  on Tuesday 26th June at 8 pm in the Salle Jean Thubert in Montesquieu des Albères.. All welcome.\n \nShare this:\n				Click to share on Facebook (Opens in new window)\n				Facebook\n			\n				Click to share on X (Opens in new window)\n				X\n			\n				Click to share on LinkedIn (Opens in new window)\n				LinkedIn\n			\n				Click to share on Pinterest (Opens in new window)\n				Pinterest\n			\n\n	Related\n
URL:https://anglophone-direct.com/event/choir-in-concert-montesquieu/
CATEGORIES:Music and Dance
ATTACH;FMTTYPE=image/jpeg:https://anglophone-direct.com/ap_img/Vibe_choir.jpg
END:VEVENT
END:VCALENDAR