BEGIN:VCALENDAR
VERSION:2.0
PRODID:-//P-O Life - ECPv4.6.25//NONSGML v1.0//EN
CALSCALE:GREGORIAN
METHOD:PUBLISH
X-WR-CALNAME:P-O Life
X-ORIGINAL-URL:https://anglophone-direct.com
X-WR-CALDESC:Events for P-O Life
BEGIN:VEVENT
DTSTART;TZID=UTC+1:20181215T080000
DTEND;TZID=UTC+1:20181216T170000
DTSTAMP:20260423T100349
CREATED:20181210T090113Z
LAST-MODIFIED:20181212T154816Z
UID:37667-1544860800-1544979600@anglophone-direct.com
SUMMARY:Christmas Music in Maureillas
DESCRIPTION:[vc_row][vc_column][vc_column_text] \nTo get you into the Christmas spirit\, come to hear a medley of festive songs in French\, English\, Catalan\, Spanish and Swedish in a variety of styles from Baroque to gospel.\n[/vc_column_text][vc_single_image image=”37669″ img_size=”full”][vc_column_text]The hugely popular Maureillas Christmas choir will be giving two concerts this year : in the church in St Jean Pla de Corts on Saturday 15 December at 4pm and in the church in Maureillas on Sunday 16 December at 5pm. Entrance is free. Everyone is very welcome ![/vc_column_text][/vc_column][/vc_row][vc_row][vc_column][/vc_column][/vc_row] \nShare this:\n				Click to share on Facebook (Opens in new window)\n				Facebook\n			\n				Click to share on X (Opens in new window)\n				X\n			\n				Click to share on LinkedIn (Opens in new window)\n				LinkedIn\n			\n				Click to share on Pinterest (Opens in new window)\n				Pinterest\n			\n\n	Related\n
URL:https://anglophone-direct.com/event/christmas-music-in-maureillas/
CATEGORIES:Christmas,Festivals & Traditions,Music and Dance
ATTACH;FMTTYPE=image/jpeg:https://anglophone-direct.com/ap_img/Colorful-Balls-Christmas-Decorations.jpg
END:VEVENT
END:VCALENDAR