BEGIN:VCALENDAR
VERSION:2.0
PRODID:-//P-O Life - ECPv4.6.25//NONSGML v1.0//EN
CALSCALE:GREGORIAN
METHOD:PUBLISH
X-WR-CALNAME:P-O Life
X-ORIGINAL-URL:https://anglophone-direct.com
X-WR-CALDESC:Events for P-O Life
BEGIN:VEVENT
DTSTART;VALUE=DATE:20190703
DTEND;VALUE=DATE:20190707
DTSTAMP:20260425T231737
CREATED:20190620T080943Z
LAST-MODIFIED:20190626T122909Z
UID:40881-1562112000-1562457599@anglophone-direct.com
SUMMARY:Collioure Science Colloquium
DESCRIPTION:[vc_row][vc_column][vc_column_text] \nCollioure Science Colloquium\n[/vc_column_text][vc_column_text]You are warmly invited to attend the 2nd Collioure Science Colloquium to be held in Collioure from Wednesday 3rd to Satruday 6th July 2019. \nThis year’s theme is Oceans: What are the challenges our oceans face? How do we react ? How do we adapt ?  \nThe Colloque aims to build public discussions about the key environmental issues facing our planet’s seas and oceans. Come along and be part of the conversations\, discussions and the possible solutions. \nThere is an exciting program including keynote presentations covering the global environmental issues and challenges facing our marine environment.  \nThese science talks (in French) will be supported by oral and poster presentations from scientists\, students and experts. \nThere will also be internationally-acclaimed films\, music & entertainment\, the Sea Plastic expedition boat and a sea-level rise performance piece. \nFor all program and subscriptions details please visit the Colloque website (you can change the language to English by scrolling right to the bottom of the page). \nMost of the presentations will be held at the Centre Culturel in Collioure\, with one afternoon of talks at the Observatoire in Banyuls sur Mer. The beach performance will take place at the Boramar Beach\, Collioure. \n \n\n\n\n\n1 day pass 10€\n4 day pass 20€\n\n\n\n\n[/vc_column_text][vc_video link=”https://youtu.be/Mi12If2hkbM”][/vc_column][/vc_row] \nShare this:\n				Click to share on Facebook (Opens in new window)\n				Facebook\n			\n				Click to share on X (Opens in new window)\n				X\n			\n				Click to share on LinkedIn (Opens in new window)\n				LinkedIn\n			\n				Click to share on Pinterest (Opens in new window)\n				Pinterest\n			\n\n	Related\n
URL:https://anglophone-direct.com/event/collioure-science-colloquium/
LOCATION:Centre Culturel\, Rue Michelet\, Collioure\, 66190
CATEGORIES:Charity Events,Education,Family Fun,Festivals & Traditions,Salons & Exhibitions
ATTACH;FMTTYPE=image/jpeg:https://anglophone-direct.com/ap_img/Affiche-colloque-2019-web.jpg
ORGANIZER;CN="Colloque%20de%20Collioure":MAILTO:colloque.collioure@gmail.com
END:VEVENT
END:VCALENDAR