BEGIN:VCALENDAR
VERSION:2.0
PRODID:-//P-O Life - ECPv4.6.25//NONSGML v1.0//EN
CALSCALE:GREGORIAN
METHOD:PUBLISH
X-WR-CALNAME:P-O Life
X-ORIGINAL-URL:https://anglophone-direct.com
X-WR-CALDESC:Events for P-O Life
BEGIN:VEVENT
DTSTART;TZID=UTC+1:20231007T190000
DTEND;TZID=UTC+1:20231007T190000
DTSTAMP:20260423T112923
CREATED:20230913T112638Z
LAST-MODIFIED:20230913T122649Z
UID:19883-1696705200-1696705200@anglophone-direct.com
SUMMARY:CSF AUTUMN BALL
DESCRIPTION:[vc_row][vc_column][vc_column_text] \n\n\n\n\nCSF Autumn Ball\nThe last CSF Autumn Ball dates back to pre-Covid times so we’re delighted to confirm that 2023 will see the music and dancing return to the Salle des Fêtes in Bages on Saturday 7th October! \nWe know that we can count on your support at what is always a very relaxing evening\, sitting with friends\, joining in the fun and winning some prizes. \n \nThis event is one which we have been holding every autumn until Covid intervened. \nThere is a super tapas meal included in the price of €20\, plus a glass or two of wine and a pudding.  People can reserve a table for up to 8 people.  It’s a fun evening with live music from Zircon and a lots of prizes to be won on the tombola.  After the meal there will be dancing!  Entry is by ticket only and tickets must be purchased before 2nd October. \nAs always\, we’d be very grateful for donations to our tombola. Bottles can be filled with anything – wine\, water\, shampoo\, tomato ketchup – plastic or glass. \nFor the other prizes we are looking for unopened gifts or unused knick-knacks e.g. household items\, jewellery\, china\, scarves\, soaps\, perfumes\, etc.  Just bring your donation along to one of the Drop Ins or drop me a line and we can arrange a pick up. \nFIND OUT MORE ABOUT CSF\n\n\n\n\n[/vc_column_text][vc_gallery type=”flexslider_slide” interval=”3″ images=”46138\,46139\,46140\,46141″ img_size=”full”][/vc_column][/vc_row] \nShare this:\n				Click to share on Facebook (Opens in new window)\n				Facebook\n			\n				Click to share on X (Opens in new window)\n				X\n			\n				Click to share on LinkedIn (Opens in new window)\n				LinkedIn\n			\n				Click to share on Pinterest (Opens in new window)\n				Pinterest\n			\n\n	Related\n
URL:https://anglophone-direct.com/event/csf-autumn-ball/
LOCATION:Salles des Fetes\, Bages
CATEGORIES:Charity Events,Health & Well-Being
ATTACH;FMTTYPE=image/jpeg:https://anglophone-direct.com/ap_img/logo-csf.jpg
END:VEVENT
END:VCALENDAR