BEGIN:VCALENDAR
VERSION:2.0
PRODID:-//P-O Life - ECPv4.6.25//NONSGML v1.0//EN
CALSCALE:GREGORIAN
METHOD:PUBLISH
X-WR-CALNAME:P-O Life
X-ORIGINAL-URL:https://anglophone-direct.com
X-WR-CALDESC:Events for P-O Life
BEGIN:VEVENT
DTSTART;VALUE=DATE:20200401
DTEND;VALUE=DATE:20200501
DTSTAMP:20260422T094833
CREATED:20200325T120602Z
LAST-MODIFIED:20200325T120943Z
UID:46119-1585699200-1588291199@anglophone-direct.com
SUMMARY:CSF NEWSLETTER: APRIL 2020
DESCRIPTION:[vc_row][vc_column][vc_column_text] \nHello Everyone\n\n\nThe sun had gone in but I went for a walk anyway.  Wrapped up against a strange easterly wind which had been blowing for about 2 days\, I tramped through the woods.  In amongst the cistus and the heathers there were wonderful peaty and piney smells\, damp and fresh.  Lots of buds too.  Not a pretty nature walk but\, even so\, one which was quite new to me.  Now that our movements are restricted\, I appreciate all the more having had all day to get lost\, lingering to touch soft young pine cones and leaning down to smell the yellow flowers of a prickly gorse. \n\n\n\n\n\nThe Vins de Femmes on Saturday 7 March was a great success.  This was a new event\, organised by 12 vineyards\, all of them with lady winegrowers.  It was held at the Chateau de L’Ou near Villeneuve de la Raho. \nA strong tramontane was blowing as we made our way to the Chateau to set up our stand inside the entrance\, but neither this nor the threat of coronavirus put anyone off coming.  The event was to raise funds for CSF and the ladies were expecting around 200 attendees. \nIn fact\, much to everyone’s delight\, nearly 1\,000 people came through the door!!  It was a superb evening with music\, food\, a talk on wine tasting\, a “thank you” from our President and a few words from the President of La Ligue 66 about our partnership………oh\, and some wine tasting! \n\n\n\nNew CSF Merchandise: Cap\, Polo Shirts & Fleeces \n \n\n\nEmergency Medical Centre opening in Perpignan \nPerpignan now has an emergency medical centre called Centre Covid-19 Perpignan. Find out more details here. \n\nIMPORTANT ANNOUNCEMENT!\nAll the April Drop-Ins are cancelled.  If you can\, please keep your paperbacks and bring them when we’re back in business. \n\n\nThe CSF Open Meeting on the 15 April has been cancelled. \nLes Printemps de la cancerologie – ICIC on 23 April has not yet been officially cancelled.  Have a look on their website to check the latest situation. We have pulled out this year \nThe Cycle for Life has been postponed until 23rd September – see below. \n\n\n\n\nLOOKING AHEAD\nSaturday 6th June CAUS 66  L’Université de la Santé\, Perpignan        \nWe are pleased to announce that this week CSF signed the convention with CAUS66 – Maison des Usagers.  This is a big step forward for us in the P-O. \nThe Maison des Usagers is a group of organisations throughout France which brings together under one roof all the patient associations for all sorts of illnesses.  They also interact with the hospitals and clinics. \nTo be signed up with them means greater accessibility for CSF.  They can support CSF and we can support them. Have a look at the CAUS66 website and you’ll see that we are in good company \nAs an Association Member\, CSF is entitled to a stand at the CAUS 66 3ème Université de la Santé which takes place on Saturday 6th June at Place du Souvenir Francais et Allees Maillot in Perpignan\, near the Palais des Congrès. \nIt’s a day of conferences and events and all the Associations\, including CSF of course\, will have a stand. \nWe very much hope that you will come along\, especially as it’s our first time at this convention.  Let Maggie know if you are coming\, preferably before 10th April\, and let her know whether you would like lunch which is €10. \nAlso\, if you feel you would like to help on the stand\, we would of course be very grateful. Maggie’s email is sud-po@cancersupportfrance.org. \n\n\n\n\n\n\n\nSunday 7th June Vide Grenier St Cyprien \nAs far as we know\, this large vide grenier\, organised by La Ligue\, will go ahead.  We normally have a couple of tables and it’s very well attended.  If you have any good quality bric-a-brac or nearly new gifts which you would like to donate\, please keep them aside for now.  We’ll have more news on this next month. \n\n\n\n\n\nThursday 10th September Activity for Life Maureillas \nWe are looking forward to doing our Walk for Life again this year. We have still not been able to confirm the date with the Mairie at Mareillas.  This is largely due to the local elections and\, straight after that\, the cancellation of all council meetings!  Bear with us though. \n\n\n\n\n\n\nWednesday 23rd September Cycle For Life 2020 Rochefort to Angoulême \nFaced with so much uncertainty\, we held a Cycle for Life meeting on Monday and have taken the decision to postpone it until the autumn.  Although we will continue using the Flow Velo route\, the ride will now take place over 4 days starting on Wednesday 23rd September in Rochefort and ending in Angoulême on Saturday lunchtime with a welcome. \nWe will continue with the overnight stops as before\, at St Savinien and Cognac\, arriving in Angoulême on Friday evening 25th. \nOn the morning of Saturday 26th there will be a local short ride organised around the area\, rather as we did at Agde a couple of years ago.  That means people can set off home or may even take the chance to stay on for a long weekend. \nMore information will be sent out shortly and the various websites will be updated in a couple of days. \n\nSaturday 17th October Autumn Ball \nThis is the date for our next Autumn Ball which will be in Bages again this year.  Please put it in your diary! \n\n\n\n\nDiana Eastaff[/vc_cta][/vc_column][/vc_row] \n\n\nShare this:\n				Click to share on Facebook (Opens in new window)\n				Facebook\n			\n				Click to share on X (Opens in new window)\n				X\n			\n				Click to share on LinkedIn (Opens in new window)\n				LinkedIn\n			\n				Click to share on Pinterest (Opens in new window)\n				Pinterest\n			\n\n	Related\n
URL:https://anglophone-direct.com/event/csf-newsletter-april-2020/
LOCATION:Around the Region
CATEGORIES:Health & Well-Being
ATTACH;FMTTYPE=image/jpeg:https://anglophone-direct.com/ap_img/CSF-blue-on-white-LOGO.jpg
END:VEVENT
END:VCALENDAR