BEGIN:VCALENDAR
VERSION:2.0
PRODID:-//P-O Life - ECPv4.6.25//NONSGML v1.0//EN
CALSCALE:GREGORIAN
METHOD:PUBLISH
X-WR-CALNAME:P-O Life
X-ORIGINAL-URL:https://anglophone-direct.com
X-WR-CALDESC:Events for P-O Life
BEGIN:VEVENT
DTSTART;VALUE=DATE:20160601
DTEND;VALUE=DATE:20160701
DTSTAMP:20260422T165748
CREATED:20160801T114416Z
LAST-MODIFIED:20160801T114602Z
UID:19490-1464739200-1467331199@anglophone-direct.com
SUMMARY:CSF NEWSLETTER: AUGUST 2016
DESCRIPTION: \nHello Everyone \n\nI don’t want to hear any complaints about it being too hot!  It’s glorious to wake up and see the sunshine and know that we can go for that early morning dip in the sea or the pool\, or\, how about yoga on the beach\, a bike ride to the bakers to beat the queue\, or being the first through the door at the Intermarché! \n\nIt’s never too early to start planning your trip to one of our two Drop-Ins this month: \nWednesday 3 August  –    Céret    –    10.30-12\nDrop In to Pablo’s Bar in the Place Pablo Picasso.   Do come to the bar\, sit outside and have a coffee\, browse through the books and chat to friends and members.  Bring your visitors and take a tour around the village.  Providing it isn’t too hot\, why not check out the route for the Walk for Life walk in September  (see below). \nMonday 15 August   –    Laroque    –    10.30-12    \nOur Book Exchange is at the Café des Artistes.   Update your summer reading and exchange your paperbacks.  Also CDs and DVDs.  You can buy a coffee and take two books.  CSF members are always on hand.  \nPlease note that there will be no Drop-In at Lizzie’s Kitchen this month.  \n\nFORTHCOMING EVENTS\nSunday 4 September At Home 3pm      Caixas\nPenny and Frank will be welcoming us into their home once again.    \nThis is a convivial opportunity for members\, supporters and all those interested in CSF to get together.  A buffet supper will be available from 5.30pm or just pop in any time for a drink and a chat.  Please email Penny if you would like details of how to get there (sud-president@cancersupportfrance.org)  \nSunday 11-16 September             The Canal du Garonne Cycle Ride                              \nThis is an event which takes place every year and is organised by CSF.  It is open to everyone across France.  The cycle ride will be from Bordeaux to Toulouse. You can take part in any or all of the stages.   Perhaps you would like to help or come and cheer our riders en route or at the Toulouse finishing line on September 16th. \nYou can find more information if you go to the csf canal du midi cycle ride Facebook page or talk to Hazel Turner (sud-secretary@cancersupportfrance.org) \nSunday 18 September   CSF ACTIVITY FOR LIFE 2016   \nAs you know\, the ‘Walk For Life’ theme has been broadened to include as many activities as possible in as many of the 13 CSF associations throughout France as we can.    \nHere in the P.O. we have chosen to do a walk in Céret and we very much hope you will participate\, help or just come along and have some fun supporting CSF. \nWalk for Life  Une Randonnée Conviviale \nIf you look at their website\, you will see that La Rondé Cérétane has a lot to offer over the weekend of 17-18 September.  (http://www.rondeceretane.com)  \nCSF is joining a walk in Céret.   I’m sure most of you know the town of Céret but if you haven’t been up into the surrounding hills why not join us on a hike.   \nWe plan to meet up in a garden in Céret for some refreshments before the start which can be anytime between 7.30 and 9am.  Then it’s off on a 9km walk of moderate difficulty\, with a few small hills\, nothing more.  The walk must finish at noon.   \nWe will then gather again in the garden for a group picnic when water\, wine and homemade cakes will be available .  There will be a buvette at the halfway point and a free tee shirt at the finish.  There’s a small sign-up fee of €9.   \nIf you’re interested in signing up or would like more details\, please contact Lynn Hall (lynnrhall66@gmail.com) \nFriday 14 October Scottish Country Dancing         Eus 3-6pm \nA lively afternoon of music and dance is proposed for those of you brave enough to join us for some Scottish Country Dancing and Line Dancing.   \nDerek Taylor will be the caller for the dances and his band Nostalgia will provide the music. There’ll be coffee and cake to keep you going.  Donations will be gratefully received by CSF and a Leukemia charity for children. \nIf you need more info please contact Maggie (maggie.longworth@gmail.com). \nSaturday 15 October Autumn Ball       Salle des Fetes Bages\nThis is a splendid evening of fund-raising with prizes\, music and dancing.  There’ll be Tombola\, a Bottle Stall and an Auction of Promises.  The Bar will have beer and wine.   \nMusic will be supplied by the band Zircon.  A 15€ ticket will include tapas\, a dessert and one drink.  \nI am collecting bottles for the Bottle Stall and Rita (rita.hagg@orange.fr) is collecting gifts for her Tombola stall.  We would both be very grateful for any donations. \nPlease bring bottles and gifts to one of the Drop-Ins or\, if you are a CSF Volunteer\, to one of the training sessions.   \nWe are beginning to get together some very exciting offers for prizes for our Auction of Promises.  For those who don’t know\, this is a bidding event where the highest bidder wins the prize.  People have been very generous and here’s just a taste of what to expect:  a sail on the Med\, golf lessons\, a LeRoy Merlin workshop in French and an artist who will paint your portrait in oils.  If you have any more ideas please do contact Claudia (clatsch07@gmail.com) \nBonne continuation! \n\n\n\n\nA bientôt!\nDiana Eastaff\n\ndianaeastaff@orange.fr  \nPlease pass this on to anyone you know who may be interested in any of these events and for further information please contact me by e-mail on deastaff@yahoo.co.uk or by phone 04 68 82 90 49. \nAnd check out our website at csf-suddefrance.webs.com for all our future events \nShare this:\n				Click to share on Facebook (Opens in new window)\n				Facebook\n			\n				Click to share on X (Opens in new window)\n				X\n			\n				Click to share on LinkedIn (Opens in new window)\n				LinkedIn\n			\n				Click to share on Pinterest (Opens in new window)\n				Pinterest\n			\n\n	Related\n
URL:https://anglophone-direct.com/event/csf-newsletter-august-2016/
CATEGORIES:Health & Well-Being
ATTACH;FMTTYPE=image/jpeg:https://anglophone-direct.com/ap_img/CSF-Seperated-Logos_Flower.jpg
END:VEVENT
END:VCALENDAR