BEGIN:VCALENDAR
VERSION:2.0
PRODID:-//P-O Life - ECPv4.6.25//NONSGML v1.0//EN
CALSCALE:GREGORIAN
METHOD:PUBLISH
X-WR-CALNAME:P-O Life
X-ORIGINAL-URL:https://anglophone-direct.com
X-WR-CALDESC:Events for P-O Life
BEGIN:VEVENT
DTSTART;VALUE=DATE:20230601
DTEND;VALUE=DATE:20230701
DTSTAMP:20260423T100339
CREATED:20230601T144353Z
LAST-MODIFIED:20230601T144353Z
UID:66607-1685577600-1688169599@anglophone-direct.com
SUMMARY:CSF NEWSLETTER: JUNE 2023
DESCRIPTION:Hello Everyone\n\nOh dear what a sorry state of affairs my garden was when I returned from a two week holiday.  The D word has been bandied about for a while so I wasn’t surprised.  Or was I – it was\, after all\, raining!  Showing off their drought-proof resilience were the the two olive trees and a very bushy fig tree\, both trying their best to out-do the agapanthuses.  My dependable African Lillies cast aside their yellow droopy leaves of winter and boldly pushed up dark green foliage as if to say\, look at us and look no further.  Those beautiful lavender blue clusters of floral greatness come up every year\, rain or no rain.\nTOMBOLA PRIZES\nWe are in need of Tombola prizes and bottles for the Walk for Life in September and the Autumn Ball in October. \nReach into the back of your cupboard and see if you have anything which we can put on our tables.  Unused presents or anything in good condition which you think we could use for our raffles.  Bottles of any size or shape\, plastic or glass – orange juice or jam\, washing-up liquid or a bottle of Beaujolais. \nJust bring them along to our Drop Ins or events or email me to arrange collection.  Many thanks for all your support \nENGLISH GREETINGS CARDS!\nSome of you may know our friend Shirley Morton.  She has very kindly donated some really good quality English cards – cards for lots of different occasions and beautifully designed boxes of note cards. \nWe intend to bring the cards along to most of our events and Drop Ins –  I hope you will be tempted to have a look at them.  The prices range from 2€ to 5€ and\, of course\, we are always happy to accept a donation. \n\n\nDrop Ins\n\n\nWednesday 7 June\, Pablo’s Bar\, Céret\, 10.30 \nCome along for coffee and chat. There will also be books and Céret is a great place to meet up with friends.\nWednesday 17 May\, Villa Lafabrègue\, Prades\, 10.15 \n\nCatch up with friends at this splendid villa. It’s in a beautiful area on the edge of the village. This month we have Greg Jamison talking about DRY GARDENING. Coffee\, tea and books and maybe a few cakes. \n\nWednesday 14 June\, Café des Artistes\, Laroque des Albères\, 10.15 \nCome along and buy a coffee and take away a book or two. If you have books to bring\, they must be paperbacks please. No large books and no hardbacks or non-fiction. \nLooking ahead\nThursday 7th September\, Walk for Life\, Maureillas \nOur Walk for Life will be at Prat De La Farga again this year. \nThis is always a very well-supported event with two walks to choose from – an easy one and a not so easy one. The only information we have so far is that the long walk will be 9kms. \nIt’s a fun day for all ages! There will be a game of pétanque\, various stalls\, a Tombola and music. \nWe walk in the morning and then enjoy a picnic lunch together. More details to come but please make a note of the date! \nSaturday 7th October\, Autumn Ball\, Bages\, 7pm – Midnight \nIt’s been too long since the last Autumn Ball. \nWe’re in the early stages of preparation for the Autumn Ball but I can tell you that there’ll be music\, dancing\, raffle prizes\, tapas\, wine\, beer and much more. Entry will be by tickets purchased before the Ball.  These will be on sale later in the year.  You will also be able to reserve a table for up to 10 people so please tell your friends and put the date in your diary.\n\n\n\n\n\n\nPlease remember that if anyone is struggling or needing help\, the CSF telephone and email helplines are always open.   We are there for everyone needing assistance at this time as well as for those affected by cancer. There is also lots of information on our website.\n\n\n\n\nDiana Eastaff \nShare this:\n				Click to share on Facebook (Opens in new window)\n				Facebook\n			\n				Click to share on X (Opens in new window)\n				X\n			\n				Click to share on LinkedIn (Opens in new window)\n				LinkedIn\n			\n				Click to share on Pinterest (Opens in new window)\n				Pinterest\n			\n\n	Related\n
URL:https://anglophone-direct.com/event/csf-newsletter-june-2023/
LOCATION:Around the Region
CATEGORIES:Charity Events,Health & Well-Being
ATTACH;FMTTYPE=image/jpeg:https://anglophone-direct.com/ap_img/logo-csf.jpg
END:VEVENT
END:VCALENDAR