BEGIN:VCALENDAR
VERSION:2.0
PRODID:-//P-O Life - ECPv4.6.25//NONSGML v1.0//EN
CALSCALE:GREGORIAN
METHOD:PUBLISH
X-WR-CALNAME:P-O Life
X-ORIGINAL-URL:https://anglophone-direct.com
X-WR-CALDESC:Events for P-O Life
BEGIN:VEVENT
DTSTART;VALUE=DATE:20250601
DTEND;VALUE=DATE:20250701
DTSTAMP:20260425T180212
CREATED:20250528T201505Z
LAST-MODIFIED:20250528T201505Z
UID:73306-1748736000-1751327999@anglophone-direct.com
SUMMARY:CSF NEWSLETTER: JUNE 2025
DESCRIPTION:Hallo Everyone\n\nAfter a beautiful Spring – with almost enough rainfall to cheer nature-lovers – we now have glorious summer ahead of us. Water restrictions are still in place in the Aspres\, but it is encouraging to see the reservoirs and rivers looking healthy\, and even better to see the land greening up. \n\n\nDrop Ins\n\n\nWednesday 4th June\, Bar le Pablo\, Céret\, 10.30 \n\nCome along for a coffee and a chat. There will be paperbacks to exchange and some friendly faces. With luck and sunshine we shall be outside again. \n\nMonday 16th June\, Café des Artistes\, Laroque des Albères\, 10.15 \n\nCome and have a browse through our large selection of paperbacks. Any books you bring along for exchange will be gratefully received. Sorry\, but we cannot take hardbacks or non-fiction. Bring a friend and stay for a coffee. \nNB just for this month\, the Prades Drop-in is on a Thursday \nThursday 19th June\, Villa Lafabrègue Prades\, 10.15 \nCome and have coffee with us at this lovely venue\, and bring a paperback or two to exchange. Penny Parkinson will give an illustrated talk on her recent trip to Southern India. \n\n\nPast events\nThe Open Garden event\, held in a private garden in Fuilla (near Prades) was a great success. On a sunny day the beautiful garden\, and the hospitality of the owners Greg and Barbara\, was much appreciated by around 60 visitors. The hosts’ plant sale and their very generous donation raised a healthy sum for CSF Sud de France. \nLooking ahead\nWatch this space for a new event in September that is in the planning stage. The Quiz will now take place in November. \nAL Supporters needed\nAll our Active Listeners have a supporter who provides a balance of encouragement and challenge. Meeting every six weeks or so\, usually by telephone\, they allow the AL to share any concerns about their client work and to practise their listening skills. Supporters are either experienced ALs or others from a relevant professional background with a good grounding in what CSF is about. They support their colleagues\, helping them to achieve they best they can for CSF clients. \nIf you would like to know more then please contact Penny at sud-penny@cancersupportfrance.org \n\n\n\n\nPlease remember that if anyone is struggling or needing help\, the CSF telephone (0800 240 200) and email helplines are always open. We are there for everyone needing assistance at this time\, as well as those affected by cancer. \nThere is also a lot of information on our website : https:// cancersupportfrance.org \n\n\n\n\n\n\n\nc/nn \nShare this:\n				Click to share on Facebook (Opens in new window)\n				Facebook\n			\n				Click to share on X (Opens in new window)\n				X\n			\n				Click to share on LinkedIn (Opens in new window)\n				LinkedIn\n			\n				Click to share on Pinterest (Opens in new window)\n				Pinterest\n			\n\n	Related\n
URL:https://anglophone-direct.com/event/csf-newsletter-june-2025/
LOCATION:Around the Region
CATEGORIES:Charity Events,Health & Well-Being
ATTACH;FMTTYPE=image/jpeg:https://anglophone-direct.com/ap_img/logo-csf.jpg
END:VEVENT
END:VCALENDAR