BEGIN:VCALENDAR
VERSION:2.0
PRODID:-//P-O Life - ECPv4.6.25//NONSGML v1.0//EN
CALSCALE:GREGORIAN
METHOD:PUBLISH
X-WR-CALNAME:P-O Life
X-ORIGINAL-URL:https://anglophone-direct.com
X-WR-CALDESC:Events for P-O Life
BEGIN:VEVENT
DTSTART;VALUE=DATE:20160526
DTEND;VALUE=DATE:20160527
DTSTAMP:20260422T025724
CREATED:20160525T081452Z
LAST-MODIFIED:20160525T093549Z
UID:12590-1464220800-1464307199@anglophone-direct.com
SUMMARY:CURRY NIGHT\, Laroque
DESCRIPTION:Spice up your life\n7pm onwards. \nSTARTERS \n♣ Poppadoms 3 with raw onion relish\, mango jelly\, Raita (yoghurt and mint sauce) – 3.00€  (additional poppadoms 50 cent each)\n♣ Beef mince samosas 3 (medium hot) – 3.50€ \nMAIN MEALS \n♣ Chicken Korma (Slightly spiced – chicken dish in a mild curry sauce made with cream\, aromatic spices and coconut\, originated in South Asia) – 15€\n♣ Lamb Vindaloo (Hot – a very hot Indian curry with tomatoes\, onions and chilies\, popular in the region of Goa and the surrounding Konkan and many parts of India) –  12€ \n* Both main dishes served with rice (included in price) \nDESSERT \n♣ Ice Cream (3 Boules) 3.00€ \n \nTables are limited so in order to avoid disappointment\, please reserve your table ASAP either by text 0675158899 or email hermanhusselmann@icloud.com. Remember to include your name\, time\, number of guests and especially your pre-order selection. (ideally before the 24th May).  \nDrinks and kid’s meals can be purchased directly from the bar. \nPlease advise us in advance if anyone in your party is vegetarian so that we can prepare a suitable dish for them.\nHope to see you there.\nKind regards\nHerman & Riana \nShare this:\n				Click to share on Facebook (Opens in new window)\n				Facebook\n			\n				Click to share on X (Opens in new window)\n				X\n			\n				Click to share on LinkedIn (Opens in new window)\n				LinkedIn\n			\n				Click to share on Pinterest (Opens in new window)\n				Pinterest\n			\n\n	Related\n
URL:https://anglophone-direct.com/event/curry-night/
LOCATION:Camping Mas Manyeres\, Laroque des Alberes.
CATEGORIES:Food & Drink
ATTACH;FMTTYPE=image/jpeg:https://anglophone-direct.com/ap_img/13141597743761.jpg
END:VEVENT
END:VCALENDAR