BEGIN:VCALENDAR
VERSION:2.0
PRODID:-//P-O Life - ECPv4.6.25//NONSGML v1.0//EN
CALSCALE:GREGORIAN
METHOD:PUBLISH
X-WR-CALNAME:P-O Life
X-ORIGINAL-URL:https://anglophone-direct.com
X-WR-CALDESC:Events for P-O Life
BEGIN:VEVENT
DTSTART;VALUE=DATE:20211017
DTEND;VALUE=DATE:20211018
DTSTAMP:20260421T111436
CREATED:20211006T053739Z
LAST-MODIFIED:20211006T082757Z
UID:27520-1634428800-1634515199@anglophone-direct.com
SUMMARY:Le Dionysiade Wine Festival
DESCRIPTION:[vc_row][vc_column][vc_column_text css_animation=”” el_id=”” el_class=”” css=””] \nLes Dionysiades\n[/vc_column_text][vc_column_text]The Syndicat Agly-Verdouble – Pays Touristique is hosting (for the 27th time!) the ever-popular wine festival\, Le Dionysiade. \nNamed after the Greek god of wine\, Dionysos\, each year the club chooses a different location to celebrate the rich history of viticulture in the P-O. \nWith previous events cancelled for obvious reasons\, organisers and producers are chomping at the bit to welcome wine fans to this year’s festival. \nMaking their comeback with a splash\, the 2021 Dionysiades will take place in the Gorges de Gouleyrous\, between Tautavel and Vingrau\, as well as in venues across the two towns. \nA free shuttle bus (navette)\, will run between the various sites every 20 minutes. \nHighlights of the weekend include:  \n\nA traditional tasting competition. As in previous years\, teams of wine growers\, work colleagues\, groups and clubs (5 people minimum) compete against each other in the category of their choice.\nFree beginners’ wine tasting workshop allowing novices to discover the rich universe of wine.\nGuided walk of the vineyards\nProducer’s market. Meet the faces behind the products and purchase goodies to take home with you.\nRustic\, traditional meal accompanied by the best wines from across the Agly region.\nHeritage activities including guided tours of the church and exhibitions\nMusical entertainment\n\nCheck out the full programme here. \nWhy not make the Dionysiades the culminating event of a 3 day binge… the Fascinant Weekend? \n[/vc_column_text][vc_column_text] \n9am – 6pm \nEntry costs just 5€  \nwww.agly-tourisme.fr \n[/vc_column_text][/vc_column][/vc_row][vc_row][vc_column][vc_gallery interval=”3″ images=”27523\,27522\,27524\,27525″ img_size=”full”][/vc_column][/vc_row] \nShare this:\n				Click to share on Facebook (Opens in new window)\n				Facebook\n			\n				Click to share on X (Opens in new window)\n				X\n			\n				Click to share on LinkedIn (Opens in new window)\n				LinkedIn\n			\n				Click to share on Pinterest (Opens in new window)\n				Pinterest\n			\n\n	Related\n
URL:https://anglophone-direct.com/event/dionysiade-agly/
CATEGORIES:Culture and Heritage,Festivals & Traditions,Food & Drink
ATTACH;FMTTYPE=image/jpeg:https://anglophone-direct.com/ap_img/dionysiades-1.jpg
ORGANIZER;CN="Syndicat%20Agly-Verdouble":MAILTO:agly-verdouble@wanadoo.fr
END:VEVENT
END:VCALENDAR