BEGIN:VCALENDAR
VERSION:2.0
PRODID:-//P-O Life - ECPv4.6.25//NONSGML v1.0//EN
CALSCALE:GREGORIAN
METHOD:PUBLISH
X-WR-CALNAME:P-O Life
X-ORIGINAL-URL:https://anglophone-direct.com
X-WR-CALDESC:Events for P-O Life
BEGIN:VEVENT
DTSTART;VALUE=DATE:20180530
DTEND;VALUE=DATE:20180607
DTSTAMP:20260425T125543
CREATED:20180601T042642Z
LAST-MODIFIED:20180601T074611Z
UID:18114-1527638400-1528329599@anglophone-direct.com
SUMMARY:Festival de Théâtre Saint André
DESCRIPTION:[vc_row][vc_column][vc_column_text] \nSaint André welcomes visitors to its 19th annual Theatre Festival\nFrom Wednesday 30th May to Wednesday 6th Jue\, there will be daily performances in the Salle des Fêtes and the Théâtre du Verdure. \n[/vc_column_text][/vc_column][/vc_row][vc_row][vc_column][vc_column_text] \nIn a town of just 2700 inhabitants\, Mayor Francis Manent is the first to admit that a festival of any kind can be a perilous undertaking ; particularly when arts funding is no longer readily available. \nRegardless\, he and his constituents regard the Festival de Théâtre de Saint André as « necessary ». Not only are they promoting creative expression in a society too-oft obsessed with profit\, they are also providing a forum of cultural discussion\, inviting audiences to analyse their fears and overcome their prejudices. \n[/vc_column_text][vc_column_text] \nWith 2 shows every day\, the 2018 schedule is brimming with talent. From an interpretation of Lord of the Flies to scenes from Dostoïevski’s The Idiot and a clown comedy romance to melt the hardest of hearts\, this year’s programme is as eclectic as the actors are brilliant. \nWith winners of theatre festivals from across Europe\, and further\, audiences are set to be regaled by some of the finest theatrical artists performing in France today. \n[/vc_column_text][/vc_column][/vc_row][vc_row][vc_column][vc_column_text] \nSingle show : €10\n5 show pass : €25\n5 show + finale pass : €35\n10 show pass: 40€\n10 show + finale pass: 50€\nFestival Finale : €15\nFind the full programme here.\n[/vc_column_text][/vc_column][/vc_row] \nShare this:\n				Click to share on Facebook (Opens in new window)\n				Facebook\n			\n				Click to share on X (Opens in new window)\n				X\n			\n				Click to share on LinkedIn (Opens in new window)\n				LinkedIn\n			\n				Click to share on Pinterest (Opens in new window)\n				Pinterest\n			\n\n	Related\n
URL:https://anglophone-direct.com/event/festival-de-theatre-saint-andre/
LOCATION:Saint André\, Saint André\, 66690
CATEGORIES:Cinema & Theatre,Festivals & Traditions
ATTACH;FMTTYPE=image/jpeg:https://anglophone-direct.com/ap_img/theatre-st-anree-1.jpg
END:VEVENT
END:VCALENDAR