BEGIN:VCALENDAR
VERSION:2.0
PRODID:-//P-O Life - ECPv4.6.25//NONSGML v1.0//EN
CALSCALE:GREGORIAN
METHOD:PUBLISH
X-WR-CALNAME:P-O Life
X-ORIGINAL-URL:https://anglophone-direct.com
X-WR-CALDESC:Events for P-O Life
BEGIN:VEVENT
DTSTART;VALUE=DATE:20250627
DTEND;VALUE=DATE:20250630
DTSTAMP:20260421T111617
CREATED:20210628T053744Z
LAST-MODIFIED:20250612T074315Z
UID:17894-1750982400-1751241599@anglophone-direct.com
SUMMARY:Fête de la Saint Pierre\, Saint Cyprien
DESCRIPTION:[vc_row][vc_column][vc_column_text] \nFête de la Saint Pierre\n[/vc_column_text][vc_column_text]This festival\, in honour of Saint Pierre\, the patron saint of fisherman and the sea\, as well as those who have been lost at sea\, is a traditional fête that takes places annually in Saint Cyprien. \nHere’s the 2025 programme (but check with the Office de Tourisme for any last minute changes). \nFriday\, June 27\, from 7:00 PM to 10:00 PM\n→ 7:00 PM: Opening ceremony with the band Sol de Banyuls and a sardine feast hosted by Terra i Mar \nSaturday\, June 28\, from 9:00 AM to 11:00 PM\n→ 9:00 AM: Outing of the decorated Catalan boats\n→ 10:00 AM: Bagad Kevrenn Alré performing throughout the day\n→ 10:00 AM – 2:00 PM: Band Les Canaillous\n→ 12:00 PM: Parade of the Caps Gros (big-headed figures) by children from the Youth Center of Saint-Cyprien and Sant Cebrià de Vallalta\n→ 12:00 PM – 3:00 PM: Havaneres (Catalan sea shanties) with Els Indians de l’Albera\n→ 4:30 PM: Elegance contest for Catalan boats\n→ 5:15 PM: Castellers (human towers) with Aire Nous de Bao\n→ 6:00 PM – 10:00 PM: Band Les Canaillous\n→ 8:00 PM: Sardine feast\n→ 9:00 PM: Popular dance\n→ 10:00 PM: Crémat (traditional flaming rum drink) \nSunday\, June 29\, from 10:30 AM to 5:00 PM\n→ 10:30 AM: Mass in honor of Saint Peter with musical accompaniment – Jardins Maritimes.\nFollowed by a procession and blessing of the Catalan boats\n→ 11:00 AM: Street performance with Salanc’aires\n→ 12:00 PM: Grilled prawns by Terra i Mar\n→ 3:00 PM: Traditional dances by Els Dansaires de Thuir \n[/vc_column_text][/vc_column][/vc_row] \nShare this:\n				Click to share on Facebook (Opens in new window)\n				Facebook\n			\n				Click to share on X (Opens in new window)\n				X\n			\n				Click to share on LinkedIn (Opens in new window)\n				LinkedIn\n			\n				Click to share on Pinterest (Opens in new window)\n				Pinterest\n			\n\n	Related\n
URL:https://anglophone-direct.com/event/fete-de-la-sainte-pierre/
LOCATION:Port de Saint Cyprien\, Quai Arthur Rimbaud \, Saint Cyprien\, 66750
CATEGORIES:Culture and Heritage,Festivals & Traditions
ATTACH;FMTTYPE=image/jpeg:https://anglophone-direct.com/ap_img/saint-pierre-barque.jpg
END:VEVENT
END:VCALENDAR