BEGIN:VCALENDAR
VERSION:2.0
PRODID:-//P-O Life - ECPv4.6.25//NONSGML v1.0//EN
CALSCALE:GREGORIAN
METHOD:PUBLISH
X-WR-CALNAME:P-O Life
X-ORIGINAL-URL:https://anglophone-direct.com
X-WR-CALDESC:Events for P-O Life
BEGIN:VEVENT
DTSTART;VALUE=DATE:20210703
DTEND;VALUE=DATE:20210704
DTSTAMP:20260423T230843
CREATED:20210628T082225Z
LAST-MODIFIED:20210628T101203Z
UID:17678-1625270400-1625356799@anglophone-direct.com
SUMMARY:Fête de l'Eau\, le Boulou
DESCRIPTION:[vc_row][vc_column][vc_column_text] \nFÊTE DE L’EAU (water festival)\nAt the foot of the Albères mountain range\, just a ten minute drive from the Spanish border\, the water therapy centre of Le Boulou is an oasis of calm\, tranquility… and fizzy water! \nCelebrated annually\, Le Boulou water festival concentrates on the theme of\, you guessed it\, water. \nThe medicinal and healing qualities of the Le Boulou waters are recognised far and wide; slightly fizzy (pétillante) and rich in minerals and carbs\, they are know to treat in particular digestive and cardio-arterial conditions. \nNot so long ago\, the ’station thermale’ at Le Boulou catered only for those with medical problems. Today\, the resort has changed direction and offers leisure and relaxation\, as well as enormous medicinal benefits. \nThe Fête de l’Eau celebrates all of this with three days of lectures\, guided visits\, aqua-aerobics (and other sports)\, fishing\, music\, bodegas and more…[/vc_column_text][/vc_column][/vc_row][vc_row][vc_column][vc_single_image image=”55871″ img_size=”full” onclick=”custom_link” img_link_target=”_blank” link=”http://www.tourisme-leboulou.fr/sejourner/voir-faire/sortir/agenda/fete-de-l-eau-2019-2215844″][/vc_column][/vc_row][vc_row][vc_column][vc_column_text] \n\n\n\n\nContact the Office de Tourisme for more info\n04 68 87 50 95\nwww.tourisme-leboulou.fr\n\n\n\n\n[/vc_column_text][/vc_column][/vc_row] \nShare this:\n				Click to share on Facebook (Opens in new window)\n				Facebook\n			\n				Click to share on X (Opens in new window)\n				X\n			\n				Click to share on LinkedIn (Opens in new window)\n				LinkedIn\n			\n				Click to share on Pinterest (Opens in new window)\n				Pinterest\n			\n\n	Related\n
URL:https://anglophone-direct.com/event/fete-de-leau-le-boulou/
LOCATION:Le Boulou
CATEGORIES:Family Fun,Festivals & Traditions
ATTACH;FMTTYPE=image/jpeg:https://anglophone-direct.com/ap_img/img65-1.jpg
END:VEVENT
END:VCALENDAR