BEGIN:VCALENDAR
VERSION:2.0
PRODID:-//P-O Life - ECPv4.6.25//NONSGML v1.0//EN
CALSCALE:GREGORIAN
METHOD:PUBLISH
X-WR-CALNAME:P-O Life
X-ORIGINAL-URL:https://anglophone-direct.com
X-WR-CALDESC:Events for P-O Life
BEGIN:VEVENT
DTSTART;VALUE=DATE:20170514
DTEND;VALUE=DATE:20170515
DTSTAMP:20260423T034123
CREATED:20170502T080947Z
LAST-MODIFIED:20170505T070240Z
UID:27394-1494720000-1494806399@anglophone-direct.com
SUMMARY:Fête des Fleurs et Jardins\, Banyuls sur Mer
DESCRIPTION:[vc_row][vc_column][vc_column_text] \nFête des Fleurs et Jardins \n[/vc_column_text][vc_column_text]The sea front and town centre of beautiful Banyuls-sur-Mer will be transformed into a giant garden party from 9am to 6pm on Sunday 14th May. \nLocal nurseries and producers will display a vast array of plants and share their expertise for all gardening requirements\, abilities and budgets. Visit the Mairie for an exhibition on the beautiful variety of plants and flowers adorning the towns pavements and public spaces. \nAt 3pm\, indulge your nosiness and enjoy a guided visit of the town’s finest private gardens. You can also discover the rich diversity of the wild plants growing around the area with a guided tour from Laurie Beaufils (in French!). \nBe sure to say hello to our favourite nursery: Pépinière le Passiflore \n[/vc_column_text][/vc_column][/vc_row] \nShare this:\n				Click to share on Facebook (Opens in new window)\n				Facebook\n			\n				Click to share on X (Opens in new window)\n				X\n			\n				Click to share on LinkedIn (Opens in new window)\n				LinkedIn\n			\n				Click to share on Pinterest (Opens in new window)\n				Pinterest\n			\n\n	Related\n
URL:https://anglophone-direct.com/event/fete-des-fleurs-et-jardins-banyuls-sur-mer/
LOCATION:Banyuls-sur-Mer
CATEGORIES:Family Fun,Outdoor Activities
ATTACH;FMTTYPE=image/jpeg:https://anglophone-direct.com/ap_img/fete_fleurs_2017.jpg
END:VEVENT
END:VCALENDAR