BEGIN:VCALENDAR
VERSION:2.0
PRODID:-//P-O Life - ECPv4.6.25//NONSGML v1.0//EN
CALSCALE:GREGORIAN
METHOD:PUBLISH
X-WR-CALNAME:P-O Life
X-ORIGINAL-URL:https://anglophone-direct.com
X-WR-CALDESC:Events for P-O Life
BEGIN:VEVENT
DTSTART;VALUE=DATE:20220410
DTEND;VALUE=DATE:20220411
DTSTAMP:20260420T225028
CREATED:20220403T095641Z
LAST-MODIFIED:20220404T180228Z
UID:14886-1649548800-1649635199@anglophone-direct.com
SUMMARY:Foire aux Chevreaux\, Arles-sur-Tech
DESCRIPTION:[vc_row][vc_column][vc_column_text] \nFoire aux Chevreaux – Baby Goat Fair\nA produce fair with arts\, crafts\, local products\, and lots of live and very cute baby goats – careful children\, they are cute but they nip. (I speak from experience!!) \n9 a.m.: OPENING OF THE MARKET  \n11 a.m.: Official opening\n11:30 a.m.: cheese tasting\n12 p.m.: sardanas\n12:30 p.m.: LUNCH\nFull menu €17\, €10 child\nReservation: 04/68/98/54/84\nOther catering options on site and in the village.\nAnimation from 11:30 a.m. to 2:30 p.m. by the “BOUTIFANFARE”\n3 p.m.: Alegria folk show\n\nEVENTS \n• Exhibition of farm animals\n• Various producers and artisans\n• Demonstration of the “Dentelières d’Arles” (lace makers)and basket makers\n• Reading corner for children “Lire et faire lire association” and face painting.\n\nAND ALL DAY:\nFree games for children and adults!\n(sack race\, milking competition ….many prizes to be won)\nFor all information:\ncatherine.barnedes@gmail.com or 06.14.01.01.82\nPOP IN AND SEE ERIC AND TREAT YOURSELF TO SOME ROUSQUILLES\, HOME MADE CHOCOLATE\, AND OTHER CATALAN SPECIALITIES; \n \n  \nShare this:\n				Click to share on Facebook (Opens in new window)\n				Facebook\n			\n				Click to share on X (Opens in new window)\n				X\n			\n				Click to share on LinkedIn (Opens in new window)\n				LinkedIn\n			\n				Click to share on Pinterest (Opens in new window)\n				Pinterest\n			\n\n	Related\n
URL:https://anglophone-direct.com/event/foire-aux-chevreaux/
CATEGORIES:Family Fun,Markets & Vide Greniers,Outdoor Activities
ATTACH;FMTTYPE=image/jpeg:https://anglophone-direct.com/ap_img/chevreau-2.jpg
END:VEVENT
END:VCALENDAR