BEGIN:VCALENDAR
VERSION:2.0
PRODID:-//P-O Life - ECPv4.6.25//NONSGML v1.0//EN
CALSCALE:GREGORIAN
METHOD:PUBLISH
X-WR-CALNAME:P-O Life
X-ORIGINAL-URL:https://anglophone-direct.com
X-WR-CALDESC:Events for P-O Life
BEGIN:VEVENT
DTSTART;VALUE=DATE:20240719
DTEND;VALUE=DATE:20240722
DTSTAMP:20260424T210342
CREATED:20210713T080707Z
LAST-MODIFIED:20240626T195239Z
UID:40832-1721347200-1721606399@anglophone-direct.com
SUMMARY:Jazz à Juhègues - Traditional Jazz Festival
DESCRIPTION:[vc_row][vc_column][vc_column_text] \nJazz à Juhègues\n[/vc_column_text][vc_column_text]The relationship between Torreilles and jazz is a well established love story. As early as the 1930s\, the village’s enthusiasm for the ground-breaking genre was so great that villagers joined musical forces to create the “l’Exotic Jazz” band. They introduced generations of Torreillans and Salanquais to this new\, rebellious sound\, straight from the United States. \nAt the dawn of the 21st century century\, the “Jazz à Juhègues” festival was born. In the beautiful\, historic grounds of the Chapelle de Juhègues\, festival-goers can enjoy the very best in traditional jazz\, performed by internationally-renowned artists.[/vc_column_text][/vc_column][/vc_row][vc_row][vc_column][vc_single_image image=”40834″ img_size=”full”][vc_column_text] \nLa Chapelle\nThe Juhègues site is a veritable heritage jewel. Composed of a chapel dedicated to the Virgin Mary\, a hermitage\, beautiful gardens and various out-buildings\, the site extends over several hectares and has been magnificently restored in recent years. \nUnder the shady leaves of its century-old plane trees\, the Théâtre de Verdure is an enchanting open air venue. \nAnd once the sun goes down\, this intimate setting offers a unique opportunity to enjoy great musical performances under the starry sky.[/vc_column_text][vc_single_image image=”55864″ img_size=”full”][/vc_column][/vc_row][vc_row][vc_column][vc_column_text] \nProgramme\nFriday : The O’City Vipers \n \nSaturday : Mamz’elle bee Swing Orchestra \n \nSunday : Dominique Rieux Big Brass Band \n[/vc_column_text][/vc_column][/vc_row][vc_row][vc_column][vc_column_text] \n\n\n\n\nTarrifs\n1 concert 25€ advanced booking / 30€ at the door\n3 day pass 61\,20€ \nBook your tickets online or at the Office de Tourisme \nTel: 04 68 28 41 10 \nEmail: info@torreilles.com \nWebsite: www.torreilles.fr \nAddress: Le Cube\, place des Souvenirs d’Enfance\, 66440 Torreilles\n\n\n\n\n[/vc_column_text][/vc_column][/vc_row][vc_row][vc_column][vc_single_image image=”55863″ img_size=”full” alignment=”center”][/vc_column][/vc_row] \nShare this:\n				Click to share on Facebook (Opens in new window)\n				Facebook\n			\n				Click to share on X (Opens in new window)\n				X\n			\n				Click to share on LinkedIn (Opens in new window)\n				LinkedIn\n			\n				Click to share on Pinterest (Opens in new window)\n				Pinterest\n			\n\n	Related\n
URL:https://anglophone-direct.com/event/jazz-a-juhegues-traditional-jazz-festival/
LOCATION:Chapelle de Juhègues\, Chemin de Juhèques\, Torreilles\, 66440
CATEGORIES:Festivals & Traditions,Music and Dance
ATTACH;FMTTYPE=image/jpeg:https://anglophone-direct.com/ap_img/Jazz-à-Juhègues-concert-1-Nirek-Mokar-3.jpg-©jazzaudehore-1-scaled.jpg
END:VEVENT
END:VCALENDAR