BEGIN:VCALENDAR
VERSION:2.0
PRODID:-//P-O Life - ECPv4.6.25//NONSGML v1.0//EN
CALSCALE:GREGORIAN
METHOD:PUBLISH
X-WR-CALNAME:P-O Life
X-ORIGINAL-URL:https://anglophone-direct.com
X-WR-CALDESC:Events for P-O Life
BEGIN:VEVENT
DTSTART;VALUE=DATE:20200725
DTEND;VALUE=DATE:20200726
DTSTAMP:20260424T210014
CREATED:20200713T061602Z
LAST-MODIFIED:20200713T080743Z
UID:40792-1595635200-1595721599@anglophone-direct.com
SUMMARY:Jazzapassa
DESCRIPTION:[vc_row][vc_column][vc_column_text] \nJazzapassa\n[/vc_column_text][vc_column_text] \nWhat better way to shake off confinement blues than with Jazzapassa? \nEveryone’s favourite French zebra\, the Jazzèbre\, makes an annual autumnal appearance in the P-O in September and October. However\, if that simply doesn’t satisfy the jazz itch\, fear not! \nThe team also run an annual summer event\, Jazzapassa\, which has been given the go ahead for 2020. \nSo grab your dancing shoes (and your mask) and head to the Monastir del Camp in Passa on Saturday 25th July from 6pm for an evening of the finest jazz and contemporary music. \nIn line with current health and safety measures\, numbers are strictly limited so book your ticket early to avoid disappointment.[/vc_column_text][vc_column_text]Against the backdrop of the historic Monastir del Camp\, Jazzapassa has become a popular summer event for music lovers of all ages. \nOff the beaten track\, friendly and festive\, this special event is organised by saxophonist Julien Lourau\, and his Jazzèbre team. \nComplete with mouth-watering food trucks and a well stocked bar\, enjoy warm up performances from talented young amateurs. \nThen\, for the main event\, from 8pm\, allow yourself to be transported on a musical journey lead by Larou himself\, alongside life-long friend and fellow musician\, Bojan Z.[/vc_column_text][vc_video link=”https://www.youtube.com/watch?v=w1AYEB_pbhM”][/vc_column][/vc_row][vc_row][vc_column][vc_column_text] \nWith the 2019 event cancelled due to rain\, this year\, more than ever\, the event needs you!\nHere’s how it looked in 2018…[/vc_column_text][vc_masonry_media_grid element_width=”6″ grid_id=”vc_gid:1593603616999-26b8b2e8-fce7-4″ include=”40825\,40826\,40827\,40828\,40829\,40830″][/vc_column][/vc_row] \nShare this:\n				Click to share on Facebook (Opens in new window)\n				Facebook\n			\n				Click to share on X (Opens in new window)\n				X\n			\n				Click to share on LinkedIn (Opens in new window)\n				LinkedIn\n			\n				Click to share on Pinterest (Opens in new window)\n				Pinterest\n			\n\n	Related\n
URL:https://anglophone-direct.com/event/jazzapassa/
LOCATION:Monastir del Camp\, 1905 Hameau du Monastir del Cam\, Passa\, 66300
CATEGORIES:Culture and Heritage,Festivals & Traditions,Music and Dance
ATTACH;FMTTYPE=image/jpeg:https://anglophone-direct.com/ap_img/jazzapassa-2.jpg
ORGANIZER;CN="Jazz%C3%A8bre":MAILTO:info@jazzebre.com
END:VEVENT
END:VCALENDAR