BEGIN:VCALENDAR
VERSION:2.0
PRODID:-//P-O Life - ECPv4.6.25//NONSGML v1.0//EN
CALSCALE:GREGORIAN
METHOD:PUBLISH
X-WR-CALNAME:P-O Life
X-ORIGINAL-URL:https://anglophone-direct.com
X-WR-CALDESC:Events for P-O Life
BEGIN:VEVENT
DTSTART;VALUE=DATE:20171103
DTEND;VALUE=DATE:20171104
DTSTAMP:20260423T174727
CREATED:20171023T125540Z
LAST-MODIFIED:20180420T145918Z
UID:30813-1509667200-1509753599@anglophone-direct.com
SUMMARY:Child's play at the Forteresse de Salses
DESCRIPTION:[vc_row][vc_column][vc_column_text] \nLearning about history is child’s play!\nThe Forteresse de Salses is one of the region’s best loved heritage sites\, attracting thousands of visitors from all over the world each year. \nDuring the Autumn half term\, the Centre des monuments nationaux is organising interactive\, educational activities\, designed especially for the little ones. \nBringing the Medieval architecture to life with creative workshops\, olden-day games and magic shows\, learning about history has never been such fun. \nAnd with free entry for kids and reduced entry (6.50€) for accompanying adults\, there’s really no reason not to go back in time.[/vc_column_text][vc_column_text] \nVisit the website for more info and the full programme.\n[/vc_column_text][vc_cta h2=”Half term activites” style=”flat” color=”orange”]Every Tuesday and Thursday at 11am and 3pm\, take part in extra special guided tours and discover the hidden secrets of the Forteresse (adult : 10€\, children over 8 years : 2€) \nEvery Monday and Tuesday\, join the herbalist workshop and try your hand at Medieval cooking (adult : 8€\, children over 4 : 7.50€) \nOn Saturday 28th and Sunday 29th\, embark on a Medieval adventure\, following in the footsteps of the former inhabitants of the garrison (adult : 8€\, children over 6 years: 7.50€) \nRESERVATIONS REQUIRED : CALL 04 68 38 60 13[/vc_cta][/vc_column][/vc_row][vc_row][vc_column][/vc_column][/vc_row] \nShare this:\n				Click to share on Facebook (Opens in new window)\n				Facebook\n			\n				Click to share on X (Opens in new window)\n				X\n			\n				Click to share on LinkedIn (Opens in new window)\n				LinkedIn\n			\n				Click to share on Pinterest (Opens in new window)\n				Pinterest\n			\n\n	Related\n
URL:https://anglophone-direct.com/event/kids-fortresse-de-salses/
LOCATION:Forteresse de Salses\, Salses le Château\, 66600
CATEGORIES:Culture and Heritage,Education,Family Fun,Kids
ATTACH;FMTTYPE=image/jpeg:https://anglophone-direct.com/ap_img/salses1-scaled.jpg
END:VEVENT
END:VCALENDAR