BEGIN:VCALENDAR
VERSION:2.0
PRODID:-//P-O Life - ECPv4.6.25//NONSGML v1.0//EN
CALSCALE:GREGORIAN
METHOD:PUBLISH
X-WR-CALNAME:P-O Life
X-ORIGINAL-URL:https://anglophone-direct.com
X-WR-CALDESC:Events for P-O Life
BEGIN:VEVENT
DTSTART;VALUE=DATE:20190706
DTEND;VALUE=DATE:20190707
DTSTAMP:20260425T213236
CREATED:20190701T061119Z
LAST-MODIFIED:20190703T093039Z
UID:28372-1562371200-1562457599@anglophone-direct.com
SUMMARY:La Soirée Casot\, Estagel
DESCRIPTION:[vc_row][vc_column][vc_column_text] \nLa Soirée Casots\n[/vc_column_text][vc_single_image image=”28373″ img_size=”full” alignment=”center”][vc_column_text]Casot (ka-zow) is the French pronunciation of the original Catalan word for the small cabins\, often built of stone\, that can be found across the P-O. The Catalan dictionary defines a casot as a small and uncomfortable abode but their cultural importance\, not to mention charm\, has led to many being done up\, refurbished and protected as heritage sites. \nEach year\, the Avin d’Estagel association\, hosts a festival celebrating both these tiny dwellings\, and the fantastic wine that is produced around them. La soirée castots brings together several local vineyards for an evening of heritage discovery and tasting. \nIf you fancy working up a thirst\, join the guided walk through the vineyards to better discover the land and the cosots. The evening kicks off at 6pm with a communal apéritif at the Casot Pux Baly before the gourmet meal\, specially prepared by a top notch local chef with musical accompaniment in the Chapelle Saint Vincent.[/vc_column_text][vc_column_text] \n\n\n\n\nReservations and Enquiries\n06 26 67 08 68\navindestagel@gmail.com\n\n\n\n\n[/vc_column_text][/vc_column][/vc_row] \nShare this:\n				Click to share on Facebook (Opens in new window)\n				Facebook\n			\n				Click to share on X (Opens in new window)\n				X\n			\n				Click to share on LinkedIn (Opens in new window)\n				LinkedIn\n			\n				Click to share on Pinterest (Opens in new window)\n				Pinterest\n			\n\n	Related\n
URL:https://anglophone-direct.com/event/la-soiree-casot-estagel/
LOCATION:Chapelle Saint Vincent\, Estagel\, 66310
CATEGORIES:Culture and Heritage,Food & Drink,Outdoor Activities
ATTACH;FMTTYPE=image/jpeg:https://anglophone-direct.com/ap_img/vin-et-casots.jpg
END:VEVENT
END:VCALENDAR