BEGIN:VCALENDAR
VERSION:2.0
PRODID:-//P-O Life - ECPv4.6.25//NONSGML v1.0//EN
CALSCALE:GREGORIAN
METHOD:PUBLISH
X-WR-CALNAME:P-O Life
X-ORIGINAL-URL:https://anglophone-direct.com
X-WR-CALDESC:Events for P-O Life
BEGIN:VEVENT
DTSTART;VALUE=DATE:20190628
DTEND;VALUE=DATE:20190630
DTSTAMP:20260424T015741
CREATED:20190625T050156Z
LAST-MODIFIED:20190626T122700Z
UID:17275-1561680000-1561852799@anglophone-direct.com
SUMMARY:Las Querencias\, Céret
DESCRIPTION:[vc_row][vc_column][vc_column_text] \nLas Querencias de Céret\nQuerencias is actually a bull-fighting term\, signifying the spot in the arena where the bull makes his stand and prepares himself\, ready to charge.  \nEmbodying this drama and passion\, the 2018 Querencias Festival is sure to ignite the Flamenco spirit in anyone attending. \nDanced proud and upright\, this emotionally intense artform is highly technical and demands years of dedicated study. The racing rhythm requires absolute concentration and meticulous precision from musicians and dancers alike. \nThe duende\, the soul of flamenco\, is a powerful and solemn magic\, raising the hairs on the back of your neck and sending a shiver down your spine. \n\n\n\n\n2019 PROGRAMME\nFriday 28th\nBanan’N Jug– jazz\, gospel et dirty blues \nSaturday 29th\n1st act Flamenco guitar : Juan Antonio Suarez “Canito”\n2nd act Flamenco : Cie José Manuel Alvarez y Marina Paje (dancers) Rafael Fernandez (guitar)\, Peppe de Pura y Juan Soto (vocals)\, Lucas Balbo (percussion)\n\n\n\n  \n\n\n\nFriday night pas: 15€\nSaturday night pass: 25€\n2 night pass: 30€\nBUY TICKETS ONLINE\nMore details and reservations at the\nOffice de Tourisme Intercommunal de Vallespir\nTel: 04 68 87 00 53\n\n\n\n\n[/vc_column_text][/vc_column][/vc_row] \nShare this:\n				Click to share on Facebook (Opens in new window)\n				Facebook\n			\n				Click to share on X (Opens in new window)\n				X\n			\n				Click to share on LinkedIn (Opens in new window)\n				LinkedIn\n			\n				Click to share on Pinterest (Opens in new window)\n				Pinterest\n			\n\n	Related\n
URL:https://anglophone-direct.com/event/las-querencias/
LOCATION:Ceret\, Salle de L’Union\, Place du Barrí\, Ceret\, 66400\, France
CATEGORIES:Culture and Heritage,Music and Dance
ATTACH;FMTTYPE=image/jpeg:https://anglophone-direct.com/ap_img/querencias-4-scaled.jpg
END:VEVENT
END:VCALENDAR