BEGIN:VCALENDAR
VERSION:2.0
PRODID:-//P-O Life - ECPv4.6.25//NONSGML v1.0//EN
CALSCALE:GREGORIAN
METHOD:PUBLISH
X-WR-CALNAME:P-O Life
X-ORIGINAL-URL:https://anglophone-direct.com
X-WR-CALDESC:Events for P-O Life
BEGIN:VEVENT
DTSTART;VALUE=DATE:20251129
DTEND;VALUE=DATE:20260105
DTSTAMP:20260423T221305
CREATED:20251214T073537Z
LAST-MODIFIED:20251213T100023Z
UID:59124-1764374400-1767571199@anglophone-direct.com
SUMMARY:It's big\, it's bright and it's back: the Village de Noël in le Barcarès
DESCRIPTION:Have you been good this year? Even if you have been just a little bit naughty\, Le Barcarès Village de Noël is right up there with some of the most well known and exciting Christmas markets in France with festive delights and enchanted attractions at every turn. So why not treat yourself? \nThis winter feast gets better and better every year making the Village de Noël more than just a market; a veritable Christmas tradition! \nFor 25 years\, visitors have been flocking from all over France and Catalonia\, discovering festive delights and enchanted attractions at every turn. \n \nOriginally in the centre of the village\, in 2018 the market moved to the gardens of the Lydia\, meaning there’s even more magic on offer! \nThe alleys lined with small wooden chalets offer a warm atmosphere and great gift ideas for the whole family. \n \nNo need to head for the mountains to enter an enchanting winter wonderland. It’s right here by the beach\, at the foot of the iconic steamship\, Lydia\, dressed up in her finest\, surrounded by ice rinks\, a mountain village\, labyrinth\, ice slide\, magical\, mythical creatures…. \n \nThe exciting extravaganza continues until mid-January\, so if you haven’t made plans for New Year’s Eve yet\, there’s an idea to welcome in 2025. \nWith a designer market\, torchlit parades\, bars and restaurants open til late and firework displays…it’s Beginning To Look A Lot Like Christmas! \n \nFOR MORE INFO\nOffice de Tourisme : 04 68 86 16 56 \nWebsite: www.noelbarcares.com \nFacebook \nMORE CHRISTMAS MARKETS AND VILLAGES \nShare this:\n				Click to share on Facebook (Opens in new window)\n				Facebook\n			\n				Click to share on X (Opens in new window)\n				X\n			\n				Click to share on LinkedIn (Opens in new window)\n				LinkedIn\n			\n				Click to share on Pinterest (Opens in new window)\n				Pinterest\n			\n\n	Related\n
URL:https://anglophone-direct.com/event/le-village-de-noel-le-barcares/
LOCATION:Le Barcarès
CATEGORIES:Christmas
ATTACH;FMTTYPE=image/jpeg:https://anglophone-direct.com/ap_img/DJI_0102-Cropped.jpg
END:VEVENT
END:VCALENDAR