BEGIN:VCALENDAR
VERSION:2.0
PRODID:-//P-O Life - ECPv4.6.25//NONSGML v1.0//EN
CALSCALE:GREGORIAN
METHOD:PUBLISH
X-WR-CALNAME:P-O Life
X-ORIGINAL-URL:https://anglophone-direct.com
X-WR-CALDESC:Events for P-O Life
BEGIN:VEVENT
DTSTART;VALUE=DATE:20200404
DTEND;VALUE=DATE:20200406
DTSTAMP:20260422T123340
CREATED:20190311T060958Z
LAST-MODIFIED:20200216T153531Z
UID:14278-1585958400-1586131199@anglophone-direct.com
SUMMARY:La Nuit des Longs Capots - Vintage Car Rally
DESCRIPTION:[vc_row][vc_column][vc_column_text] \nVintage Vehicles\nOrganised by Perpignan Grand Prix Association\, La Nuit des Longs Capots (Vintage Car Rally) brings together over 70 ‘beautiful bodies’  –  vintage vehicles representing sports cars produced since the 1950s. \nTwo categories are on offer: \n\nNavigation- crews are required to follow a set itinerary\nRegularity- the main event in which as well as navigation\, speed is checked at secret check points… competitors passing through too early or too late receive penalties!\n\nCrews are composed of a driver\, responsible for reading the terrain and ensuring the regularity of the race\, and a navigator who must read and decipher the notes provided by organisers… no mean feat! \nSo if you’re a vintage car fan\, don’t miss la Nuit des Longs Capots 2020.\n[/vc_column_text][/vc_column][/vc_row] \nShare this:\n				Click to share on Facebook (Opens in new window)\n				Facebook\n			\n				Click to share on X (Opens in new window)\n				X\n			\n				Click to share on LinkedIn (Opens in new window)\n				LinkedIn\n			\n				Click to share on Pinterest (Opens in new window)\n				Pinterest\n			\n\n	Related\n
URL:https://anglophone-direct.com/event/nuit-des-longs-capots-vintage/
LOCATION:Perpignan
CATEGORIES:Family Fun,Outdoor Activities,Salons & Exhibitions,Transport
ATTACH;FMTTYPE=image/jpeg:https://anglophone-direct.com/ap_img/longs-capots3.jpg
END:VEVENT
END:VCALENDAR