BEGIN:VCALENDAR
VERSION:2.0
PRODID:-//P-O Life - ECPv4.6.25//NONSGML v1.0//EN
CALSCALE:GREGORIAN
METHOD:PUBLISH
X-WR-CALNAME:P-O Life
X-ORIGINAL-URL:https://anglophone-direct.com
X-WR-CALDESC:Events for P-O Life
BEGIN:VEVENT
DTSTART;VALUE=DATE:20160611
DTEND;VALUE=DATE:20160612
DTSTAMP:20260422T074113
CREATED:20160605T145758Z
LAST-MODIFIED:20160608T202146Z
UID:16966-1465603200-1465689599@anglophone-direct.com
SUMMARY:Picnic\, Saint Cyprien
DESCRIPTION:Picnic on midi-plage for residents of Saint-Cyprien – on condition that everybody wears white! Festivities begin at 11am with complimentary aperitif\, followed by a bbq where Saint Cyp staff will grill your own meat for you.\n \nLive music\, inflatable games for the kids and a petanque contest…\n\nTime: 11h – 16h\nPlace: Place Rodin (plage)\nContact: 04 68 21 01 33\nFREE (but bring your own meat) \nShare this:\n				Click to share on Facebook (Opens in new window)\n				Facebook\n			\n				Click to share on X (Opens in new window)\n				X\n			\n				Click to share on LinkedIn (Opens in new window)\n				LinkedIn\n			\n				Click to share on Pinterest (Opens in new window)\n				Pinterest\n			\n\n	Related\n
URL:https://anglophone-direct.com/event/picnic-saint-cyprien/
LOCATION:Saint Cyprien plage
CATEGORIES:Family Fun,Festivals & Traditions,Music and Dance,Outdoor Activities
ATTACH;FMTTYPE=image/jpeg:https://anglophone-direct.com/ap_img/Pique-nique-Midi-plage.jpeg
END:VEVENT
END:VCALENDAR