BEGIN:VCALENDAR
VERSION:2.0
PRODID:-//P-O Life - ECPv4.6.25//NONSGML v1.0//EN
CALSCALE:GREGORIAN
METHOD:PUBLISH
X-WR-CALNAME:P-O Life
X-ORIGINAL-URL:https://anglophone-direct.com
X-WR-CALDESC:Events for P-O Life
BEGIN:VEVENT
DTSTART;VALUE=DATE:20161113
DTEND;VALUE=DATE:20161114
DTSTAMP:20260422T060349
CREATED:20161108T145749Z
LAST-MODIFIED:20161109T090826Z
UID:22722-1478995200-1479081599@anglophone-direct.com
SUMMARY:Remembrance Day service\,  Vernet-Les-Bains
DESCRIPTION:[vc_row][vc_column][vc_column_text] \nSt.George’s Church Vernet-Les-Bains\n[/vc_column_text][/vc_column][/vc_row][vc_row][vc_column][vc_cta h2=”” css=”.vc_custom_1478186205725{background-color: #ddc090 !important;}”]13th of November\nThe Anglican Church of Vernet Les Bains holds a service of Holy Communion in English every week\, beginning at 10.00am.\nWe have moved for the winter months to the chapel beside the Tourist Office just below the Place in the centre of Vernet.\nThanks to the kindness of our Catholic friends. \n\nOn the 13th of November\, during the service\, there will be a short act of remembrance. There will be poppies of all sorts for sale and as there has been so much bad press about charities purporting to support injured service men and women\, not passing on the funds where it is needed. Buying a poppy is guaranteed to get the funds to those in need.\nDavid[/vc_cta][vc_column_text] \n \n LOOKING BACK\n\n\n\n\n2011\nReparations are nearly finished at St. Georges church Vernet-Les-Bains for the induction of the new vicar.\nThe church is not actually open yet but they have permission to use it on Saturday the 9th of July at 11.00am for the induction and the blessing of a new stained glass window in memory of Harry and Helen Myers depicting St. George and the dragon.\nThe service will be conducted by the Right Rev’d David Hamid the Anglican Bishop of Europe.\nThe church has been handed over to the commune for use as a cultural centre for the whole of the village as well as being used by the church for worship and fellowship on Sundays.\nChurch members have worked very hard to get the place ship shape.\n\n\n\nBELL RINGING AT ST GEORGES \n Saturday the 9th of July \nThis year in Vernet-les-Bains is the year of Kipling\, celebrating the famous writer and poet who stayed in Vernet when his wife came to take the waters 100 years ago. In all they came to Vernet three times on the advice of a specialist from Geneva. \nIn those days Vernet was known as the “Paradise of the Pyrenees”\, and the three decades before the First World War were known as the “Belle Epoque”\, a time of economic growth and internationalism. During this period there blossomed a cosmopolitan community\, intellectual and sophisticated\, of which Kipling was a leading light. Many others also came from Britain they bought houses in the area or stayed in the luxury hotels that lined the banks of the River Cady. \nEventually it was thought that it would be good to build an English church and so they clubbed together and raised the money to build an Anglican church which was called St. George’s and begun in 1912 \, the foundation stone being laid by Field Marshal Earl Roberts VC.\, and formally consecrated in 1913. The church is a lovely building in the Romanesque style\, though now in much need of renovation. It was attended by many in those early days\, both British and French\, including the youngest daughter of Queen Victoria\, Princess Beatrice. \nSt. George’s flourished until WW2 though not so many people came to France after the First World War and then the Wall Street Crash of 1928/29\, but the church remained strong. \nAfter WW2 it was a long time before the church re-opened\, the congregations dwindled somewhat until the sixties when the church was leased to the Roman Catholics for a few years\, but in the late sixties the church was closed because of repairs that were needed and the building fell into disuse. \nIn the nineties a rather naughty Maronite priest squatted in the building and took it over for his own use\, storing furniture and painting the plain windows with lurid designs. \nThe building came to the attention of some British people in the area who wanted to see it restored as an Anglican place of worship. \nIn 1997 a retired priest\, David Evans\, from the other end of the Pyrenees\, Pau\, was asked if he would come over and try to re-open the church. Through his valiant efforts and the support of local ex-pats the church was eventually cleared out\, but the building was unable to be used because it had been closed by an “Arrete Prefectorial” so special permission was needed and much modernisation\, which of course the tiny congregation\, which David was gathering\, could not afford. \nDavid negotiated with the local Maire to give the building to the commune under the understanding that they would renovate it and use it as a cultural centre but allowing the church members to use the building on Sundays and one day a week. \nSadly the commune was in great debt and has been unable up to the present to fulfil its promise to refurbish the building\, but the church\, which of course is the people\, do meet every Sunday at 10.00am in the chapelle Notre Dame du Paradis which is just below the place on the west side. \n \nNot only is this the year of Kipling but we are in a year of change again for St. George’s\, David Evans is retiring (for the last time he says) and a new vicar has been appointed\, another David\, David Phillips a Yorkshireman who has a house in Olette\, has been coming to the area with his wife Lesley for their holidays for ten years and has finally retired to the area with their Labrador dog Bella. \nSaturday the 9th of July sees the Induction of the new vicar (known as a chaplain in Europe) and the retirement of David Evans. The service hopefully will be in St.George’s but if not it will be in the chapelle at 11.00am. The suffragan bishop of Europe will take the service with local clergy and the bishop of Perpignan in attendance. A new window\, donated by a church member in memory of his parents\, depicting St. George and the dragon is also to be consecrated at this service. \nIf anyone would like to attend they will be most welcome and at any of the weekly services as well. You can ring the new vicar for information on 04 68 96 24 58.[/vc_column_text][/vc_column][/vc_row] \nShare this:\n				Click to share on Facebook (Opens in new window)\n				Facebook\n			\n				Click to share on X (Opens in new window)\n				X\n			\n				Click to share on LinkedIn (Opens in new window)\n				LinkedIn\n			\n				Click to share on Pinterest (Opens in new window)\n				Pinterest\n			\n\n	Related\n
URL:https://anglophone-direct.com/event/remembrance-day-service-vernet-les-bains/
LOCATION:St. Georges church Vernet-Les-Bains
CATEGORIES:Culture and Heritage,Festivals & Traditions
ATTACH;FMTTYPE=image/jpeg:https://anglophone-direct.com/ap_img/Vernet-les-Bains-en-hiver-copyright-Emilie-scaled.jpg
END:VEVENT
END:VCALENDAR