BEGIN:VCALENDAR
VERSION:2.0
PRODID:-//P-O Life - ECPv4.6.25//NONSGML v1.0//EN
CALSCALE:GREGORIAN
METHOD:PUBLISH
X-WR-CALNAME:P-O Life
X-ORIGINAL-URL:https://anglophone-direct.com
X-WR-CALDESC:Events for P-O Life
BEGIN:VEVENT
DTSTART;VALUE=DATE:20160917
DTEND;VALUE=DATE:20160918
DTSTAMP:20260421T061124
CREATED:20160916T080318Z
LAST-MODIFIED:20160916T080732Z
UID:20666-1474070400-1474156799@anglophone-direct.com
SUMMARY:Sports de Nature en Canigó
DESCRIPTION:17th September – across the Massif\nThe majestic mountain range that crowns our region is the perfect excuse to get active whilst getting back to nature! Walk\, run\, bike\, jump\, climb… the only limit is your imagination (and perhaps your vertigo!)\nThis Saturday\, sports professionals from across the Massif invite you to discover the magic of the mountains. Throughout the day\, anyone over the age of 5 can try their hand at a wide range of activities including canyoning\, fishing and even donkey driving! Places are limited so book your places here. \nFrom 5pm at the Lac des Escoumes\, Vinça\, local associations and charities will run interactive workshops on our rich and unique environment. Then at 9.30pm\, an outdoor cinema screening of Un siècle de tourisme sur le Massif du Canigó will showcase the development of tourism across the mountain range since 1896. \nShare this:\n				Click to share on Facebook (Opens in new window)\n				Facebook\n			\n				Click to share on X (Opens in new window)\n				X\n			\n				Click to share on LinkedIn (Opens in new window)\n				LinkedIn\n			\n				Click to share on Pinterest (Opens in new window)\n				Pinterest\n			\n\n	Related\n
URL:https://anglophone-direct.com/event/sports-canigo/
CATEGORIES:Family Fun,Outdoor Activities,Sport
ATTACH;FMTTYPE=image/png:https://anglophone-direct.com/ap_img/lou.png
END:VEVENT
END:VCALENDAR