BEGIN:VCALENDAR
VERSION:2.0
PRODID:-//P-O Life - ECPv4.6.25//NONSGML v1.0//EN
CALSCALE:GREGORIAN
METHOD:PUBLISH
X-WR-CALNAME:P-O Life
X-ORIGINAL-URL:https://anglophone-direct.com
X-WR-CALDESC:Events for P-O Life
BEGIN:VEVENT
DTSTART;VALUE=DATE:20171125
DTEND;VALUE=DATE:20171126
DTSTAMP:20260422T043032
CREATED:20171121T135155Z
LAST-MODIFIED:20171122T163341Z
UID:31075-1511568000-1511654399@anglophone-direct.com
SUMMARY:TWILIGHT CHRISTMAS FAYRE\, RIVEL
DESCRIPTION:[vc_row][vc_column][vc_column_text] \nDon’t miss the Twilight Christmas in Rivel\, 41 km from Carcassonne. It might not be right on our P-O doorstep\, but you can make a fabulous drive and day out of if by visiting Carcassonne\, or the nearby Lac de la Cavayere\, also known as Carcassonne Plage. \n \n[/vc_column_text][/vc_column][/vc_row][vc_row][vc_column width=”1/2″][vc_column_text]Picnic areas\, ducks and wildfowl\, diverse flora and fauna\, a beach\, a nearby chateau….  a delightful visit on a sunny winter day. \nAnd if it really is too far to travel\, this amazing and heart warming Retirement Home for Dogs is always in need of donations so spare a few euros to make sure that these furry oldies don’t run out of treats this Christmas. \nYou can make a donation HERE\n[/vc_column_text][/vc_column][vc_column width=”1/2″][vc_single_image image=”31077″ img_size=”medium” add_caption=”yes”][/vc_column][/vc_row] \nShare this:\n				Click to share on Facebook (Opens in new window)\n				Facebook\n			\n				Click to share on X (Opens in new window)\n				X\n			\n				Click to share on LinkedIn (Opens in new window)\n				LinkedIn\n			\n				Click to share on Pinterest (Opens in new window)\n				Pinterest\n			\n\n	Related\n
URL:https://anglophone-direct.com/event/twilight-christmas-fayre-ribel/
LOCATION:Rivel
CATEGORIES:Family Fun,Food & Drink,Games,Health & Well-Being,Kids,Markets & Vide Greniers,Other stuff!,Outdoor Activities
ATTACH;FMTTYPE=image/jpeg:https://anglophone-direct.com/ap_img/maxresdefault-1-2.jpg
END:VEVENT
END:VCALENDAR