BEGIN:VCALENDAR
VERSION:2.0
PRODID:-//P-O Life - ECPv4.6.25//NONSGML v1.0//EN
CALSCALE:GREGORIAN
METHOD:PUBLISH
X-WR-CALNAME:P-O Life
X-ORIGINAL-URL:https://anglophone-direct.com
X-WR-CALDESC:Events for P-O Life
BEGIN:VEVENT
DTSTART;TZID=UTC+1:20221004T110000
DTEND;TZID=UTC+1:20221009T190000
DTSTAMP:20260423T171025
CREATED:20220926T093657Z
LAST-MODIFIED:20220926T101427Z
UID:63474-1664881200-1665342000@anglophone-direct.com
SUMMARY:Vermeille Internationale Annual Art Exhibition
DESCRIPTION:\n\n\n\n\n\n\nVermeille Internationale Annual Art Exhibition\nThe Association “Vermeille Internationale” art exhibition has become a regular event in the Port Vendres calendar since 2014.\nThe exhibition usually features around one hundred works by over 30 local artists of several different nationalities and includes painting\, photography\, sculpture and crafts. \nThis year we hope to include works by some of the visitors from Ukraine currently living here\, as well as a retrospective of the work of our friend Remi Schweizer\, the local professional artist who sadly passed away in 2021. \n\n\n\n\n\n\n\n\n\n\n\n\n\nWe also organize a program of social and artistic events during the week and\, as always\, we raise funds for charity.\nThere will be a “Music and Tapas” evening on Saturday 8th October at 7.30pm. Entrance is 10€ (tapas included)\, with live music\, dancing\, and bar. \n\n\n\nThis year’s event will be held at: \nLe Pavillon des Arts\,\nPlace de l’Obélisque\,\nPort-Vendres\nFrom 4th to 9th October 2022\, from 11am to 7pm \nMore information here\n\n\n\n\n \n\n\n\n\n\n\nShare this:\n				Click to share on Facebook (Opens in new window)\n				Facebook\n			\n				Click to share on X (Opens in new window)\n				X\n			\n				Click to share on LinkedIn (Opens in new window)\n				LinkedIn\n			\n				Click to share on Pinterest (Opens in new window)\n				Pinterest\n			\n\n	Related\n
URL:https://anglophone-direct.com/event/vermeille-internationale-annual-art-exhibition/
LOCATION:Pavillon des Arts\, Place de l'Obélisque\, Port-Vendres\, 66660\, France
CATEGORIES:Art & Lit,Salons & Exhibitions
ATTACH;FMTTYPE=image/jpeg:https://anglophone-direct.com/ap_img/7658-art_paint_brush.630w.tn_.jpg
END:VEVENT
END:VCALENDAR