BEGIN:VCALENDAR
VERSION:2.0
PRODID:-//P-O Life - ECPv4.6.25//NONSGML v1.0//EN
CALSCALE:GREGORIAN
METHOD:PUBLISH
X-WR-CALNAME:P-O Life
X-ORIGINAL-URL:https://anglophone-direct.com
X-WR-CALDESC:Events for P-O Life
BEGIN:VEVENT
DTSTART;VALUE=DATE:20210611
DTEND;VALUE=DATE:20210613
DTSTAMP:20260422T092832
CREATED:20210209T052938Z
LAST-MODIFIED:20210521T142709Z
UID:26017-1623369600-1623542399@anglophone-direct.com
SUMMARY:CANCELLED - Festival Voix des Femmes
DESCRIPTION:[vc_row][vc_column][vc_column_text] \nFestival Voix de Femmes: a celebration of women’s voices\n[/vc_column_text][vc_column_text] \n\n\n\n\nCANCELLED \nDespite the easing of lockdown\, organisers feel the situation remains too unstable and have made the difficult decision to cancel the 2021 event. \n\n\n\n35km from Perpignan\, the town of Maury is best known for its sweet\, fortified wine\, its trompes l’oeil or as the gateway to the spectacular 10th century fortress\, Quéribus. \nBut each year\, in June\, music lovers descend on the picturesque little town for a weekend of the very best in female produced and performed music. \nLast year’s cancelled festival means that this year is the 20th anniversary for Voix des Femmes. Now a firm favourite on the festival circuit\, the weekend kick-starts the summer season\, and goodness knows we could all do with some fun\, albeit socially distanced! \nThe Maire of Maury\, Charles Chivilo\, explains the festival’s ethos has always been about rejuvenation and reflection\, new horizons and new perspectives\, elements that take on an even more poignant relevance in the current climate. \nOn offer: pop\, rock\, soul\, funk\, house\, blues\, jazz\, reggae… not to mention a wide variety of local\, organic goodies to keep you dancing all night.[/vc_column_text][vc_column_text] \nConfirmed artists for 2021\n[/vc_column_text][vc_video link=”https://youtu.be/fWbDZUBuCbo”][vc_video link=”https://youtu.be/xf47GPzTcsU”][vc_video link=”https://youtu.be/93JgeDbtvcE”][vc_video link=”https://youtu.be/a05BN4G4bkM”][vc_video link=”https://youtu.be/nCKtYXIh1Ac”][vc_video link=”https://youtu.be/bodbkurV6CQ”][vc_column_text] \nClick here for full programme\n[/vc_column_text][/vc_column][/vc_row][vc_row][vc_column][vc_column_text] \n\n\n\n\n1 day pass : 38€\n2 day pass : 70€\nTickets available online or via Fnac \nFor more info \nMaury Tourist Information\n04 68 59 15 24 \nFacebook \n\n\n\n\n[/vc_column_text][/vc_column][/vc_row][vc_row][vc_column][vc_single_image image=”52575″ img_size=”full” alignment=”center”][/vc_column][/vc_row] \nShare this:\n				Click to share on Facebook (Opens in new window)\n				Facebook\n			\n				Click to share on X (Opens in new window)\n				X\n			\n				Click to share on LinkedIn (Opens in new window)\n				LinkedIn\n			\n				Click to share on Pinterest (Opens in new window)\n				Pinterest\n			\n\n	Related\n
URL:https://anglophone-direct.com/event/voix-des-femmes-maury/
LOCATION:Maury
CATEGORIES:Family Fun,Festivals & Traditions,Music and Dance,Outdoor Activities
ATTACH;FMTTYPE=image/jpeg:https://anglophone-direct.com/ap_img/voix.jpg
END:VEVENT
END:VCALENDAR