BEGIN:VCALENDAR
VERSION:2.0
PRODID:-//P-O Life - ECPv4.6.25//NONSGML v1.0//EN
CALSCALE:GREGORIAN
METHOD:PUBLISH
X-WR-CALNAME:P-O Life
X-ORIGINAL-URL:https://anglophone-direct.com
X-WR-CALDESC:Events for P-O Life
BEGIN:VEVENT
DTSTART;VALUE=DATE:20171125
DTEND;VALUE=DATE:20171127
DTSTAMP:20260422T055821
CREATED:20171120T121029Z
LAST-MODIFIED:20171122T105419Z
UID:31119-1511568000-1511740799@anglophone-direct.com
SUMMARY:Winter Exhibition in Port Vendres
DESCRIPTION:[vc_row][vc_column][vc_column_text] \nAnother great reason to visit sunny Port Vendres; Vermeille Internationale are hosting their 2 day winter exhibition at the Dome – entrance is free\, all sorts of original handmade gifts\, photography\, artwork and sculpture can be found in a festive ambiance with live music galore. \nFIND OUT MORE ABOUT THE DOME\nIt all kicks off on Saturday Nov 25th at 10 am open non-stop until 18.30 followed by a music night with Kevin Saunders at 20H00 – entry fee 5 euros\, bar available. \nOn Sunday Nov 26th open from 10.00 – 16.00 non-stop kicking off with carol singing and mince pies at 16.30. \nCome and join in the festive cheer!\n[/vc_column_text][/vc_column][vc_column width=”1/2″][/vc_column][/vc_row] \nShare this:\n				Click to share on Facebook (Opens in new window)\n				Facebook\n			\n				Click to share on X (Opens in new window)\n				X\n			\n				Click to share on LinkedIn (Opens in new window)\n				LinkedIn\n			\n				Click to share on Pinterest (Opens in new window)\n				Pinterest\n			\n\n	Related\n
URL:https://anglophone-direct.com/event/winter-exhibition-port-vendres/
LOCATION:Dome\,  Port-Vendres
CATEGORIES:Art & Lit,Family Fun,Food & Drink,Markets & Vide Greniers
ATTACH;FMTTYPE=image/jpeg:https://anglophone-direct.com/ap_img/IMG_0030-41.jpg
END:VEVENT
END:VCALENDAR